BEGIN:VCALENDAR
VERSION:2.0
PRODID:-//Dublin Gandia - ECPv6.15.20//NONSGML v1.0//EN
CALSCALE:GREGORIAN
METHOD:PUBLISH
X-WR-CALNAME:Dublin Gandia
X-ORIGINAL-URL:https://dublingandia.com
X-WR-CALDESC:Eventos para Dublin Gandia
REFRESH-INTERVAL;VALUE=DURATION:PT1H
X-Robots-Tag:noindex
X-PUBLISHED-TTL:PT1H
BEGIN:VTIMEZONE
TZID:Europe/Madrid
BEGIN:DAYLIGHT
TZOFFSETFROM:+0100
TZOFFSETTO:+0200
TZNAME:CEST
DTSTART:20240331T010000
END:DAYLIGHT
BEGIN:STANDARD
TZOFFSETFROM:+0200
TZOFFSETTO:+0100
TZNAME:CET
DTSTART:20241027T010000
END:STANDARD
BEGIN:DAYLIGHT
TZOFFSETFROM:+0100
TZOFFSETTO:+0200
TZNAME:CEST
DTSTART:20250330T010000
END:DAYLIGHT
BEGIN:STANDARD
TZOFFSETFROM:+0200
TZOFFSETTO:+0100
TZNAME:CET
DTSTART:20251026T010000
END:STANDARD
BEGIN:DAYLIGHT
TZOFFSETFROM:+0100
TZOFFSETTO:+0200
TZNAME:CEST
DTSTART:20260329T010000
END:DAYLIGHT
BEGIN:STANDARD
TZOFFSETFROM:+0200
TZOFFSETTO:+0100
TZNAME:CET
DTSTART:20261025T010000
END:STANDARD
END:VTIMEZONE
BEGIN:VEVENT
DTSTART;VALUE=DATE:20250930
DTEND;VALUE=DATE:20251002
DTSTAMP:20260425T044418
CREATED:20250930T121701Z
LAST-MODIFIED:20250930T121701Z
UID:4068-1759204800-1759291199@dublingandia.com
SUMMARY:VERMUT SESSION " PERVERSIO "
DESCRIPTION:
URL:https://dublingandia.com/concierto/vermut-session-perversio-7/
LOCATION:Pub Dublin Gandia\, Rioja 38\, Playa de Gandia\, Valencia\, 46730\, España
CATEGORIES:Concierto
ATTACH;FMTTYPE=image/jpeg:https://dublingandia.com/wp-content/uploads/2025/09/09NOV.jpeg
END:VEVENT
BEGIN:VEVENT
DTSTART;VALUE=DATE:20251003
DTEND;VALUE=DATE:20251005
DTSTAMP:20260425T044418
CREATED:20250718T003200Z
LAST-MODIFIED:20250718T003200Z
UID:3947-1759464000-1759550399@dublingandia.com
SUMMARY:NOCHES GOLFAS " SLEEPING CIRCUS "
DESCRIPTION:
URL:https://dublingandia.com/concierto/noches-golfas-sleeping-circus/
LOCATION:Pub Dublin Gandia\, Rioja 38\, Playa de Gandia\, Valencia\, 46730\, España
CATEGORIES:Concierto
ATTACH;FMTTYPE=image/jpeg:https://dublingandia.com/wp-content/uploads/2025/07/03OCT.jpeg
END:VEVENT
BEGIN:VEVENT
DTSTART;VALUE=DATE:20251004
DTEND;VALUE=DATE:20251006
DTSTAMP:20260425T044418
CREATED:20250801T104306Z
LAST-MODIFIED:20250801T104307Z
UID:4041-1759550400-1759636799@dublingandia.com
SUMMARY:HOY CERRADO POR FERIA DE GANDIA  3 Y 5 ESTAREMOS ABIERTOS
DESCRIPTION:
URL:https://dublingandia.com/concierto/hoy-cerrado-por-feria-de-gandia-3-y-5-estaremos-abiertos/
LOCATION:Pub Dublin Gandia\, Rioja 38\, Playa de Gandia\, Valencia\, 46730\, España
CATEGORIES:Otros
ATTACH;FMTTYPE=image/jpeg:https://dublingandia.com/wp-content/uploads/2025/08/04OCTCCERRADO.jpeg
END:VEVENT
BEGIN:VEVENT
DTSTART;VALUE=DATE:20251005
DTEND;VALUE=DATE:20251007
DTSTAMP:20260425T044418
CREATED:20250711T113501Z
LAST-MODIFIED:20250711T114313Z
UID:3891-1759636800-1759723199@dublingandia.com
SUMMARY:VERMUT JAM SESSION " GRAHAM FOSTER BAND "
DESCRIPTION:
URL:https://dublingandia.com/concierto/vermut-jam-session-graham-foster-band-14/
LOCATION:Pub Dublin Gandia\, Rioja 38\, Playa de Gandia\, Valencia\, 46730\, España
CATEGORIES:Jam Session
ATTACH;FMTTYPE=image/jpeg:https://dublingandia.com/wp-content/uploads/2025/07/05OCT-1.jpeg
END:VEVENT
BEGIN:VEVENT
DTSTART;VALUE=DATE:20251010
DTEND;VALUE=DATE:20251012
DTSTAMP:20260425T044418
CREATED:20250718T115216Z
LAST-MODIFIED:20251009T160724Z
UID:3952-1760068800-1760155199@dublingandia.com
SUMMARY:NOCHES GOLFAS " DJ MODERNO LIVE "
DESCRIPTION:
URL:https://dublingandia.com/concierto/noches-golfas-dj-moderno/
LOCATION:Pub Dublin Gandia\, Rioja 38\, Playa de Gandia\, Valencia\, 46730\, España
CATEGORIES:Concierto
ATTACH;FMTTYPE=image/jpeg:https://dublingandia.com/wp-content/uploads/2025/07/LRREVE.jpeg
END:VEVENT
BEGIN:VEVENT
DTSTART;VALUE=DATE:20251011
DTEND;VALUE=DATE:20251013
DTSTAMP:20260425T044418
CREATED:20250718T115506Z
LAST-MODIFIED:20251009T160915Z
UID:3955-1760155200-1760241599@dublingandia.com
SUMMARY:TARDEO SESSION " AMYJO DOH & THE SPANGLES
DESCRIPTION:
URL:https://dublingandia.com/concierto/tardeo-session-amyjo-doherty-the-spangles/
LOCATION:Pub Dublin Gandia\, Rioja 38\, Playa de Gandia\, Valencia\, 46730\, España
CATEGORIES:Concierto
ATTACH;FMTTYPE=image/jpeg:https://dublingandia.com/wp-content/uploads/2025/07/11OCT-2.jpeg
END:VEVENT
BEGIN:VEVENT
DTSTART;VALUE=DATE:20251012
DTEND;VALUE=DATE:20251014
DTSTAMP:20260425T044418
CREATED:20250720T225811Z
LAST-MODIFIED:20250720T225811Z
UID:3974-1760241600-1760327999@dublingandia.com
SUMMARY:VERMUT SESSION " SOLO STONES "
DESCRIPTION:GRUPO HOMENAJE A LOS STONES
URL:https://dublingandia.com/concierto/vermut-session-solo-stones-9/
LOCATION:Pub Dublin Gandia\, Rioja 38\, Playa de Gandia\, Valencia\, 46730\, España
CATEGORIES:Concierto
ATTACH;FMTTYPE=image/jpeg:https://dublingandia.com/wp-content/uploads/2025/07/12OCT.jpg
END:VEVENT
BEGIN:VEVENT
DTSTART;VALUE=DATE:20251017
DTEND;VALUE=DATE:20251019
DTSTAMP:20260425T044418
CREATED:20250720T232542Z
LAST-MODIFIED:20250720T232543Z
UID:3977-1760673600-1760759999@dublingandia.com
SUMMARY:NOCHES GOLFAS " THE SAME WAY "
DESCRIPTION:
URL:https://dublingandia.com/concierto/noches-golfas-the-same-way/
LOCATION:Pub Dublin Gandia\, Rioja 38\, Playa de Gandia\, Valencia\, 46730\, España
CATEGORIES:Concierto
ATTACH;FMTTYPE=image/jpeg:https://dublingandia.com/wp-content/uploads/2025/07/17OCT.jpeg
END:VEVENT
BEGIN:VEVENT
DTSTART;VALUE=DATE:20251018
DTEND;VALUE=DATE:20251020
DTSTAMP:20260425T044418
CREATED:20250721T001338Z
LAST-MODIFIED:20250721T215841Z
UID:3980-1760760000-1760846399@dublingandia.com
SUMMARY:TARDEO SESSION " RADION " FROM MEXICO
DESCRIPTION:
URL:https://dublingandia.com/concierto/tardeo-session-radion-from-mexico/
LOCATION:Pub Dublin Gandia\, Rioja 38\, Playa de Gandia\, Valencia\, 46730\, España
CATEGORIES:Concierto
ATTACH;FMTTYPE=image/jpeg:https://dublingandia.com/wp-content/uploads/2025/07/18OCT.jpeg
END:VEVENT
BEGIN:VEVENT
DTSTART;VALUE=DATE:20251019
DTEND;VALUE=DATE:20251021
DTSTAMP:20260425T044418
CREATED:20250720T163736Z
LAST-MODIFIED:20250720T205056Z
UID:3963-1760846400-1760932799@dublingandia.com
SUMMARY:VERMUT SESSION " NO NAME "
DESCRIPTION:BANDA DE VERSIONES DE ROCK INTERNACIONAL
URL:https://dublingandia.com/concierto/vermut-session-no-name-7/
LOCATION:Pub Dublin Gandia\, Rioja 38\, Playa de Gandia\, Valencia\, 46730\, España
CATEGORIES:Concierto
ATTACH;FMTTYPE=image/jpeg:https://dublingandia.com/wp-content/uploads/2025/07/19OCT.jpeg
END:VEVENT
BEGIN:VEVENT
DTSTART;VALUE=DATE:20251024
DTEND;VALUE=DATE:20251026
DTSTAMP:20260425T044418
CREATED:20250721T083745Z
LAST-MODIFIED:20250721T091806Z
UID:3986-1761278400-1761364799@dublingandia.com
SUMMARY:NOCHES GOLFAS "CHULA"
DESCRIPTION:
URL:https://dublingandia.com/concierto/noches-golfas-chula/
LOCATION:Pub Dublin Gandia\, Rioja 38\, Playa de Gandia\, Valencia\, 46730\, España
CATEGORIES:Concierto
ATTACH;FMTTYPE=image/jpeg:https://dublingandia.com/wp-content/uploads/2025/07/24OCT-2.jpeg
END:VEVENT
BEGIN:VEVENT
DTSTART;VALUE=DATE:20251025
DTEND;VALUE=DATE:20251027
DTSTAMP:20260425T044418
CREATED:20250721T231119Z
LAST-MODIFIED:20250721T231119Z
UID:4004-1761364800-1761451199@dublingandia.com
SUMMARY:TARDEO SESSION " BIG MUFF BRIGADE "
DESCRIPTION:
URL:https://dublingandia.com/concierto/tardeo-session-big-muff-brigade/
LOCATION:Pub Dublin Gandia\, Rioja 38\, Playa de Gandia\, Valencia\, 46730\, España
CATEGORIES:Concierto
ATTACH;FMTTYPE=image/jpeg:https://dublingandia.com/wp-content/uploads/2025/07/25OCT.jpeg
END:VEVENT
BEGIN:VEVENT
DTSTART;VALUE=DATE:20251026
DTEND;VALUE=DATE:20251028
DTSTAMP:20260425T044418
CREATED:20250728T203620Z
LAST-MODIFIED:20250728T203620Z
UID:4035-1761451200-1761537599@dublingandia.com
SUMMARY:VERMUT SESSION " PAYBACK "
DESCRIPTION:BANDA DE VERSIONES INTERNACIONALES
URL:https://dublingandia.com/concierto/vermut-session-payback-4/
LOCATION:Pub Dublin Gandia\, Rioja 38\, Playa de Gandia\, Valencia\, 46730\, España
CATEGORIES:Concierto
ATTACH;FMTTYPE=image/jpeg:https://dublingandia.com/wp-content/uploads/2025/07/26OCT.jpeg
END:VEVENT
BEGIN:VEVENT
DTSTART;VALUE=DATE:20251031
DTEND;VALUE=DATE:20251102
DTSTAMP:20260425T044418
CREATED:20250710T165646Z
LAST-MODIFIED:20250921T190720Z
UID:3875-1761883200-1761969599@dublingandia.com
SUMMARY:NOCHES GOLFAS "RINCON CLANDESTINO "
DESCRIPTION:
URL:https://dublingandia.com/concierto/noches-golfas-lex-luger/
LOCATION:Pub Dublin Gandia\, Rioja 38\, Playa de Gandia\, Valencia\, 46730\, España
CATEGORIES:Concierto
ATTACH;FMTTYPE=image/jpeg:https://dublingandia.com/wp-content/uploads/2025/07/31OCT-2.jpeg
END:VEVENT
BEGIN:VEVENT
DTSTART;VALUE=DATE:20251101
DTEND;VALUE=DATE:20251103
DTSTAMP:20260425T044418
CREATED:20250616T100316Z
LAST-MODIFIED:20250618T233936Z
UID:3849-1761969600-1762055999@dublingandia.com
SUMMARY:TARDEO SESSION "J.TEIXI BAND "
DESCRIPTION:
URL:https://dublingandia.com/concierto/tardeo-session-j-teixi-band/
LOCATION:Pub Dublin Gandia\, Rioja 38\, Playa de Gandia\, Valencia\, 46730\, España
CATEGORIES:Concierto
ATTACH;FMTTYPE=image/jpeg:https://dublingandia.com/wp-content/uploads/2025/06/01NOV-1.jpeg
END:VEVENT
BEGIN:VEVENT
DTSTART;VALUE=DATE:20251102
DTEND;VALUE=DATE:20251104
DTSTAMP:20260425T044418
CREATED:20250711T114008Z
LAST-MODIFIED:20250711T114008Z
UID:3894-1762056000-1762142399@dublingandia.com
SUMMARY:VERMUT JAM SESSION " GRAHAM FOSTER BAND "
DESCRIPTION:
URL:https://dublingandia.com/concierto/vermut-jam-session-graham-foster-band-15/
LOCATION:Pub Dublin Gandia\, Rioja 38\, Playa de Gandia\, Valencia\, 46730\, España
CATEGORIES:Jam Session
ATTACH;FMTTYPE=image/jpeg:https://dublingandia.com/wp-content/uploads/2025/07/02NOV.jpeg
END:VEVENT
BEGIN:VEVENT
DTSTART;VALUE=DATE:20251107
DTEND;VALUE=DATE:20251109
DTSTAMP:20260425T044418
CREATED:20250721T211721Z
LAST-MODIFIED:20251105T192559Z
UID:3998-1762488000-1762574399@dublingandia.com
SUMMARY:NOCHES GOLFAS " EL DESPERTAR DEL SILENCIO" UN HOMENAJE A HEROES DEL SILENCIO
DESCRIPTION:
URL:https://dublingandia.com/concierto/noches-golfas-madmess-from-potugal-brazil/
LOCATION:Pub Dublin Gandia\, Rioja 38\, Playa de Gandia\, Valencia\, 46730\, España
CATEGORIES:Concierto
ATTACH;FMTTYPE=image/jpeg:https://dublingandia.com/wp-content/uploads/2025/07/07NOV-1.jpeg
END:VEVENT
BEGIN:VEVENT
DTSTART;VALUE=DATE:20251108
DTEND;VALUE=DATE:20251110
DTSTAMP:20260425T044418
CREATED:20250726T133700Z
LAST-MODIFIED:20250726T133701Z
UID:4022-1762574400-1762660799@dublingandia.com
SUMMARY:TARDEO SESSION " LIMA SHAKES "
DESCRIPTION:
URL:https://dublingandia.com/concierto/tardeo-session-lima-shakes/
LOCATION:Pub Dublin Gandia\, Rioja 38\, Playa de Gandia\, Valencia\, 46730\, España
CATEGORIES:Concierto
ATTACH;FMTTYPE=image/jpeg:https://dublingandia.com/wp-content/uploads/2025/07/08NOV.jpeg
END:VEVENT
BEGIN:VEVENT
DTSTART;VALUE=DATE:20251109
DTEND;VALUE=DATE:20251111
DTSTAMP:20260425T044418
CREATED:20250729T234637Z
LAST-MODIFIED:20250729T234637Z
UID:4038-1762660800-1762747199@dublingandia.com
SUMMARY:VERMUT SESSION " PERVERSIÓ "
DESCRIPTION:
URL:https://dublingandia.com/concierto/vermut-session-perversio-6/
LOCATION:Pub Dublin Gandia\, Rioja 38\, Playa de Gandia\, Valencia\, 46730\, España
CATEGORIES:Concierto
ATTACH;FMTTYPE=image/jpeg:https://dublingandia.com/wp-content/uploads/2025/07/09NOV.jpeg
END:VEVENT
BEGIN:VEVENT
DTSTART;VALUE=DATE:20251114
DTEND;VALUE=DATE:20251116
DTSTAMP:20260425T044418
CREATED:20250721T203119Z
LAST-MODIFIED:20251027T173947Z
UID:3995-1763092800-1763179199@dublingandia.com
SUMMARY:NOCHES GOLFAS "  80 aniversario de Neil Young "
DESCRIPTION:Noche tematica celebrando el 80 cumpleaños de Neil Young con artistas invitados
URL:https://dublingandia.com/concierto/noches-golfas-tiemersma-reynaldo-y-granota/
LOCATION:Pub Dublin Gandia\, Rioja 38\, Playa de Gandia\, Valencia\, 46730\, España
CATEGORIES:Concierto
ATTACH;FMTTYPE=image/jpeg:https://dublingandia.com/wp-content/uploads/2025/07/14NOV-1.jpeg
END:VEVENT
BEGIN:VEVENT
DTSTART;VALUE=DATE:20251115
DTEND;VALUE=DATE:20251117
DTSTAMP:20260425T044418
CREATED:20250721T215437Z
LAST-MODIFIED:20250721T215437Z
UID:4001-1763179200-1763265599@dublingandia.com
SUMMARY:TARDEO SESSION " MOTOSIERRAS "
DESCRIPTION:
URL:https://dublingandia.com/concierto/tardeo-session-motosierras-2/
LOCATION:Pub Dublin Gandia\, Rioja 38\, Playa de Gandia\, Valencia\, 46730\, España
CATEGORIES:Concierto
ATTACH;FMTTYPE=image/jpeg:https://dublingandia.com/wp-content/uploads/2025/07/15NOV.jpeg
END:VEVENT
BEGIN:VEVENT
DTSTART;VALUE=DATE:20251116
DTEND;VALUE=DATE:20251118
DTSTAMP:20260425T044418
CREATED:20250930T123258Z
LAST-MODIFIED:20250930T123258Z
UID:4071-1763265600-1763351999@dublingandia.com
SUMMARY:VERMUT SESSION " UBANGUI STOMP "
DESCRIPTION:Boogie Woogie\, blues and 50s Rock and Roll band
URL:https://dublingandia.com/concierto/vermut-session-ubangui-stomp/
LOCATION:Pub Dublin Gandia\, Rioja 38\, Playa de Gandia\, Valencia\, 46730\, España
CATEGORIES:Concierto
ATTACH;FMTTYPE=image/jpeg:https://dublingandia.com/wp-content/uploads/2025/09/16NOV.jpeg
END:VEVENT
BEGIN:VEVENT
DTSTART;VALUE=DATE:20251121
DTEND;VALUE=DATE:20251123
DTSTAMP:20260425T044418
CREATED:20250710T180242Z
LAST-MODIFIED:20251015T081221Z
UID:3878-1763697600-1763783999@dublingandia.com
SUMMARY:NOCHES GOLFAS " LOS SUSTOS " FROM MEXICO
DESCRIPTION:
URL:https://dublingandia.com/concierto/noches-golfas-los-sustos-from-mexico/
LOCATION:Pub Dublin Gandia\, Rioja 38\, Playa de Gandia\, Valencia\, 46730\, España
ATTACH;FMTTYPE=image/jpeg:https://dublingandia.com/wp-content/uploads/2025/07/21NOV-1.jpeg
END:VEVENT
BEGIN:VEVENT
DTSTART;VALUE=DATE:20251122
DTEND;VALUE=DATE:20251124
DTSTAMP:20260425T044418
CREATED:20250711T143711Z
LAST-MODIFIED:20250711T143756Z
UID:3915-1763784000-1763870399@dublingandia.com
SUMMARY:TARDEO SESSION " NINO BRAVO ROCK 'N CORAZÓN "
DESCRIPTION:
URL:https://dublingandia.com/concierto/tardeo-session-nino-bravo-rock-n-corazon/
LOCATION:Pub Dublin Gandia\, Rioja 38\, Playa de Gandia\, Valencia\, 46730\, España
CATEGORIES:Concierto
ATTACH;FMTTYPE=image/jpeg:https://dublingandia.com/wp-content/uploads/2025/07/22NOV.jpeg
END:VEVENT
BEGIN:VEVENT
DTSTART;VALUE=DATE:20251123
DTEND;VALUE=DATE:20251125
DTSTAMP:20260425T044418
CREATED:20250930T125117Z
LAST-MODIFIED:20251114T073030Z
UID:4075-1763870400-1763956799@dublingandia.com
SUMMARY:VERMUT SESSION " PLANET 8 "
DESCRIPTION:
URL:https://dublingandia.com/concierto/vermut-session-soul-dealers-3/
LOCATION:Pub Dublin Gandia\, Rioja 38\, Playa de Gandia\, Valencia\, 46730\, España
CATEGORIES:Concierto
ATTACH;FMTTYPE=image/jpeg:https://dublingandia.com/wp-content/uploads/2025/09/23NOV-1.jpeg
END:VEVENT
BEGIN:VEVENT
DTSTART;VALUE=DATE:20251128
DTEND;VALUE=DATE:20251130
DTSTAMP:20260425T044418
CREATED:20250726T131919Z
LAST-MODIFIED:20251127T104924Z
UID:4019-1764302400-1764388799@dublingandia.com
SUMMARY:NOCHES GOLFAS " STARACE " FROM BRAZIL  (ENTRADAS EN TAQUILLA EFECTIVO O BIZÚM)
DESCRIPTION:
URL:https://dublingandia.com/concierto/noches-golfas-starace-from-brazil/
LOCATION:Pub Dublin Gandia\, Rioja 38\, Playa de Gandia\, Valencia\, 46730\, España
CATEGORIES:Concierto
ATTACH;FMTTYPE=image/jpeg:https://dublingandia.com/wp-content/uploads/2025/07/28NOV-1.jpg
END:VEVENT
BEGIN:VEVENT
DTSTART;VALUE=DATE:20251129
DTEND;VALUE=DATE:20251201
DTSTAMP:20260425T044418
CREATED:20250718T002432Z
LAST-MODIFIED:20251126T213008Z
UID:3944-1764388800-1764475199@dublingandia.com
SUMMARY:TARDEO SESSION " VACACIONES PERMANENTES "
DESCRIPTION:
URL:https://dublingandia.com/concierto/noches-golfas-vacaciones-permanentes/
LOCATION:Pub Dublin Gandia\, Rioja 38\, Playa de Gandia\, Valencia\, 46730\, España
CATEGORIES:Concierto
ATTACH;FMTTYPE=image/jpeg:https://dublingandia.com/wp-content/uploads/2025/07/29NOV-2.jpeg
END:VEVENT
BEGIN:VEVENT
DTSTART;VALUE=DATE:20251130
DTEND;VALUE=DATE:20251202
DTSTAMP:20260425T044418
CREATED:20250921T190313Z
LAST-MODIFIED:20251127T161108Z
UID:4060-1764475200-1764561599@dublingandia.com
SUMMARY:VERMUT SESSION " GYPSYTONEZ ROCKETZ"
DESCRIPTION:
URL:https://dublingandia.com/concierto/vermut-session-los-saitis/
LOCATION:Pub Dublin Gandia\, Rioja 38\, Playa de Gandia\, Valencia\, 46730\, España
CATEGORIES:Concierto
ATTACH;FMTTYPE=image/jpeg:https://dublingandia.com/wp-content/uploads/2025/09/30NOV-1.jpeg
END:VEVENT
BEGIN:VEVENT
DTSTART;VALUE=DATE:20251205
DTEND;VALUE=DATE:20251207
DTSTAMP:20260425T044418
CREATED:20251113T201938Z
LAST-MODIFIED:20251113T201938Z
UID:4110-1764907200-1764993599@dublingandia.com
SUMMARY:NOCHES GOLFAS " JUNIOR MACKENZIE "
DESCRIPTION:
URL:https://dublingandia.com/concierto/noches-golfas-junior-mackenzie/
LOCATION:Pub Dublin Gandia\, Rioja 38\, Playa de Gandia\, Valencia\, 46730\, España
CATEGORIES:Concierto
ATTACH;FMTTYPE=image/jpeg:https://dublingandia.com/wp-content/uploads/2025/11/LRREVE.jpeg
END:VEVENT
BEGIN:VEVENT
DTSTART;VALUE=DATE:20251206
DTEND;VALUE=DATE:20251208
DTSTAMP:20260425T044418
CREATED:20250726T131404Z
LAST-MODIFIED:20251201T145258Z
UID:4015-1764993600-1765079999@dublingandia.com
SUMMARY:TARDEO SESSION "BLUES WEISER "
DESCRIPTION:
URL:https://dublingandia.com/concierto/tardeo-session-blues-weiser/
LOCATION:Pub Dublin Gandia\, Rioja 38\, Playa de Gandia\, Valencia\, 46730\, España
CATEGORIES:Concierto
ATTACH;FMTTYPE=image/jpeg:https://dublingandia.com/wp-content/uploads/2025/07/06DIC-3.jpeg
END:VEVENT
END:VCALENDAR