BEGIN:VCALENDAR
VERSION:2.0
PRODID:-//Dublin Gandia - ECPv6.15.20//NONSGML v1.0//EN
CALSCALE:GREGORIAN
METHOD:PUBLISH
X-WR-CALNAME:Dublin Gandia
X-ORIGINAL-URL:https://dublingandia.com
X-WR-CALDESC:Eventos para Dublin Gandia
REFRESH-INTERVAL;VALUE=DURATION:PT1H
X-Robots-Tag:noindex
X-PUBLISHED-TTL:PT1H
BEGIN:VTIMEZONE
TZID:Europe/Madrid
BEGIN:DAYLIGHT
TZOFFSETFROM:+0100
TZOFFSETTO:+0200
TZNAME:CEST
DTSTART:20250330T010000
END:DAYLIGHT
BEGIN:STANDARD
TZOFFSETFROM:+0200
TZOFFSETTO:+0100
TZNAME:CET
DTSTART:20251026T010000
END:STANDARD
BEGIN:DAYLIGHT
TZOFFSETFROM:+0100
TZOFFSETTO:+0200
TZNAME:CEST
DTSTART:20260329T010000
END:DAYLIGHT
BEGIN:STANDARD
TZOFFSETFROM:+0200
TZOFFSETTO:+0100
TZNAME:CET
DTSTART:20261025T010000
END:STANDARD
BEGIN:DAYLIGHT
TZOFFSETFROM:+0100
TZOFFSETTO:+0200
TZNAME:CEST
DTSTART:20270328T010000
END:DAYLIGHT
BEGIN:STANDARD
TZOFFSETFROM:+0200
TZOFFSETTO:+0100
TZNAME:CET
DTSTART:20271031T010000
END:STANDARD
END:VTIMEZONE
BEGIN:VEVENT
DTSTART;VALUE=DATE:20260228
DTEND;VALUE=DATE:20260302
DTSTAMP:20260424T192914
CREATED:20251120T183642Z
LAST-MODIFIED:20260228T090044Z
UID:4209-1772251200-1772337599@dublingandia.com
SUMMARY:TARDEO SESSION " ANNA DUKKE "
DESCRIPTION:https://entradium.com/events/anna-dukke-pub-dublin \ntaquilla 12€ efectivo o bizum
URL:https://dublingandia.com/concierto/tardeo-session-anna-dukke/
LOCATION:Pub Dublin Gandia\, Rioja 38\, Playa de Gandia\, Valencia\, 46730\, España
CATEGORIES:Concierto
ATTACH;FMTTYPE=image/jpeg:https://dublingandia.com/wp-content/uploads/2025/11/824AF610-A7B8-409F-A118-F00745EBC541.jpeg
END:VEVENT
BEGIN:VEVENT
DTSTART;VALUE=DATE:20260301
DTEND;VALUE=DATE:20260303
DTSTAMP:20260424T192914
CREATED:20260105T115335Z
LAST-MODIFIED:20260105T115336Z
UID:4301-1772337600-1772423999@dublingandia.com
SUMMARY:JAM SESSION "GRAHAM FOSTER BAND "
DESCRIPTION:
URL:https://dublingandia.com/concierto/jam-session-graham-foster-band-9/
LOCATION:Pub Dublin Gandia\, Rioja 38\, Playa de Gandia\, Valencia\, 46730\, España
CATEGORIES:Jam Session
ATTACH;FMTTYPE=image/jpeg:https://dublingandia.com/wp-content/uploads/2026/01/01MAR.jpeg
END:VEVENT
BEGIN:VEVENT
DTSTART;VALUE=DATE:20260306
DTEND;VALUE=DATE:20260308
DTSTAMP:20260424T192914
CREATED:20260104T214147Z
LAST-MODIFIED:20260104T214147Z
UID:4280-1772769600-1772855999@dublingandia.com
SUMMARY:NOCHES GOLFAS " BISONTE BLANCO "
DESCRIPTION:
URL:https://dublingandia.com/concierto/noches-golfas-bisonte-blanco/
LOCATION:Pub Dublin Gandia\, Rioja 38\, Playa de Gandia\, Valencia\, 46730\, España
CATEGORIES:Concierto
ATTACH;FMTTYPE=image/jpeg:https://dublingandia.com/wp-content/uploads/2026/01/06MAR.jpg
END:VEVENT
BEGIN:VEVENT
DTSTART;VALUE=DATE:20260307
DTEND;VALUE=DATE:20260309
DTSTAMP:20260424T192914
CREATED:20260104T221750Z
LAST-MODIFIED:20260104T221750Z
UID:4288-1772856000-1772942399@dublingandia.com
SUMMARY:TARDEO SESSION " ABISMO "
DESCRIPTION:
URL:https://dublingandia.com/concierto/tardeo-session-abismo/
LOCATION:Pub Dublin Gandia\, Rioja 38\, Playa de Gandia\, Valencia\, 46730\, España
CATEGORIES:Concierto
ATTACH;FMTTYPE=image/jpeg:https://dublingandia.com/wp-content/uploads/2026/01/07MAR.jpeg
END:VEVENT
BEGIN:VEVENT
DTSTART;VALUE=DATE:20260308
DTEND;VALUE=DATE:20260310
DTSTAMP:20260424T192914
CREATED:20260105T165215Z
LAST-MODIFIED:20260105T165215Z
UID:4310-1772942400-1773028799@dublingandia.com
SUMMARY:VERMUT SESSION " BACKINTRACK "
DESCRIPTION:
URL:https://dublingandia.com/concierto/vermut-session-backintrack-2/
LOCATION:Pub Dublin Gandia\, Rioja 38\, Playa de Gandia\, Valencia\, 46730\, España
CATEGORIES:Concierto
ATTACH;FMTTYPE=image/jpeg:https://dublingandia.com/wp-content/uploads/2026/01/08MAR.jpeg
END:VEVENT
BEGIN:VEVENT
DTSTART;VALUE=DATE:20260313
DTEND;VALUE=DATE:20260315
DTSTAMP:20260424T192914
CREATED:20260104T215126Z
LAST-MODIFIED:20260104T215126Z
UID:4284-1773374400-1773460799@dublingandia.com
SUMMARY:NOCHES GOLFAS " ALL SKULL "
DESCRIPTION:
URL:https://dublingandia.com/concierto/noches-golfas-all-skull/
LOCATION:Pub Dublin Gandia\, Rioja 38\, Playa de Gandia\, Valencia\, 46730\, España
CATEGORIES:Concierto
ATTACH;FMTTYPE=image/jpeg:https://dublingandia.com/wp-content/uploads/2026/01/13MAR.jpeg
END:VEVENT
BEGIN:VEVENT
DTSTART;VALUE=DATE:20260314
DTEND;VALUE=DATE:20260316
DTSTAMP:20260424T192914
CREATED:20260104T223736Z
LAST-MODIFIED:20260104T224007Z
UID:4291-1773460800-1773547199@dublingandia.com
SUMMARY:TARDEO SESSION " AZUL YOKAI "
DESCRIPTION:
URL:https://dublingandia.com/concierto/tardeo-session-azul-yokai/
LOCATION:Pub Dublin Gandia\, Rioja 38\, Playa de Gandia\, Valencia\, 46730\, España
CATEGORIES:Concierto
ATTACH;FMTTYPE=image/jpeg:https://dublingandia.com/wp-content/uploads/2026/01/14MAR-1.jpeg
END:VEVENT
BEGIN:VEVENT
DTSTART;VALUE=DATE:20260315
DTEND;VALUE=DATE:20260317
DTSTAMP:20260424T192914
CREATED:20260106T215214Z
LAST-MODIFIED:20260106T215214Z
UID:4332-1773547200-1773633599@dublingandia.com
SUMMARY:VERMUT SESSION " PLANET 8 "
DESCRIPTION:BANDA DE VERSIONES DE LOS 80S LIDERADA POR OSCAR BRIZ
URL:https://dublingandia.com/concierto/vermut-session-planet-8-7/
LOCATION:Pub Dublin Gandia\, Rioja 38\, Playa de Gandia\, Valencia\, 46730\, España
CATEGORIES:Concierto
ATTACH;FMTTYPE=image/jpeg:https://dublingandia.com/wp-content/uploads/2026/01/15MAR.jpeg
END:VEVENT
BEGIN:VEVENT
DTSTART;VALUE=DATE:20260320
DTEND;VALUE=DATE:20260322
DTSTAMP:20260424T192914
CREATED:20251117T234714Z
LAST-MODIFIED:20260225T115737Z
UID:4148-1773979200-1774065599@dublingandia.com
SUMMARY:NOCHES GOLFAS " SODA KILL " FROM SWEDEN  / FIESTA PRESENTACIÓN BALI ROCK AND ROLL FEST 26
DESCRIPTION:
URL:https://dublingandia.com/concierto/noches-golfas-soda-kill-from-sweden/
LOCATION:Pub Dublin Gandia\, Rioja 38\, Playa de Gandia\, Valencia\, 46730\, España
CATEGORIES:Concierto
ATTACH;FMTTYPE=image/jpeg:https://dublingandia.com/wp-content/uploads/2025/11/WhatsApp-Image-2026-01-30-at-11.45.04.jpeg
END:VEVENT
BEGIN:VEVENT
DTSTART;VALUE=DATE:20260321
DTEND;VALUE=DATE:20260323
DTSTAMP:20260424T192914
CREATED:20260105T212306Z
LAST-MODIFIED:20260105T212306Z
UID:4316-1774065600-1774151999@dublingandia.com
SUMMARY:TARDEO SESSION " SUPERCREMALLERAS "
DESCRIPTION:
URL:https://dublingandia.com/concierto/tardeo-session-supercremalleras/
LOCATION:Pub Dublin Gandia\, Rioja 38\, Playa de Gandia\, Valencia\, 46730\, España
CATEGORIES:Concierto
ATTACH;FMTTYPE=image/jpeg:https://dublingandia.com/wp-content/uploads/2026/01/24MAR.jpeg
END:VEVENT
BEGIN:VEVENT
DTSTART;VALUE=DATE:20260322
DTEND;VALUE=DATE:20260324
DTSTAMP:20260424T192914
CREATED:20260105T172109Z
LAST-MODIFIED:20260105T172110Z
UID:4313-1774152000-1774238399@dublingandia.com
SUMMARY:VERMUT SESSION " SAMSARA "
DESCRIPTION:
URL:https://dublingandia.com/concierto/vermut-session-samsara/
LOCATION:Pub Dublin Gandia\, Rioja 38\, Playa de Gandia\, Valencia\, 46730\, España
CATEGORIES:Concierto
ATTACH;FMTTYPE=image/jpeg:https://dublingandia.com/wp-content/uploads/2026/01/22MAR.jpeg
END:VEVENT
BEGIN:VEVENT
DTSTART;VALUE=DATE:20260327
DTEND;VALUE=DATE:20260329
DTSTAMP:20260424T192914
CREATED:20260104T230956Z
LAST-MODIFIED:20260104T230956Z
UID:4297-1774584000-1774670399@dublingandia.com
SUMMARY:NOCHES GOLFAS " LEOPARDAS "
DESCRIPTION:
URL:https://dublingandia.com/concierto/noches-golfas-leopardas/
LOCATION:Pub Dublin Gandia\, Rioja 38\, Playa de Gandia\, Valencia\, 46730\, España
CATEGORIES:Concierto
ATTACH;FMTTYPE=image/jpeg:https://dublingandia.com/wp-content/uploads/2026/01/27MAR.jpeg
END:VEVENT
BEGIN:VEVENT
DTSTART;VALUE=DATE:20260328
DTEND;VALUE=DATE:20260330
DTSTAMP:20260424T192914
CREATED:20260105T234612Z
LAST-MODIFIED:20260105T234612Z
UID:4325-1774670400-1774756799@dublingandia.com
SUMMARY:TARDEO SESSION " VARGAS BLUES BAND "
DESCRIPTION:
URL:https://dublingandia.com/concierto/tardeo-session-vargas-blues-band-2/
LOCATION:Pub Dublin Gandia\, Rioja 38\, Playa de Gandia\, Valencia\, 46730\, España
CATEGORIES:Concierto
ATTACH;FMTTYPE=image/jpeg:https://dublingandia.com/wp-content/uploads/2026/01/28-MAR.jpg
END:VEVENT
BEGIN:VEVENT
DTSTART;VALUE=DATE:20260329
DTEND;VALUE=DATE:20260331
DTSTAMP:20260424T192914
CREATED:20260107T135831Z
LAST-MODIFIED:20260107T135831Z
UID:4335-1774756800-1774843199@dublingandia.com
SUMMARY:VERMUT SESSION " SOLO STONES "
DESCRIPTION:HOMENAJE A LOS STONES
URL:https://dublingandia.com/concierto/vermut-session-solo-stones-11/
LOCATION:Pub Dublin Gandia\, Rioja 38\, Playa de Gandia\, Valencia\, 46730\, España
CATEGORIES:Concierto
ATTACH;FMTTYPE=image/jpeg:https://dublingandia.com/wp-content/uploads/2026/01/29MAR.jpeg
END:VEVENT
BEGIN:VEVENT
DTSTART;VALUE=DATE:20260403
DTEND;VALUE=DATE:20260405
DTSTAMP:20260424T192914
CREATED:20260308T235525Z
LAST-MODIFIED:20260308T235525Z
UID:4429-1775188800-1775275199@dublingandia.com
SUMMARY:NOCHES GOLFAS " RINGO RANGO "
DESCRIPTION:
URL:https://dublingandia.com/concierto/noches-golfas-ringo-rango-2/
LOCATION:Pub Dublin Gandia\, Rioja 38\, Playa de Gandia\, Valencia\, 46730\, España
CATEGORIES:Concierto
ATTACH;FMTTYPE=image/jpeg:https://dublingandia.com/wp-content/uploads/2026/03/03ABR.jpeg
END:VEVENT
BEGIN:VEVENT
DTSTART;VALUE=DATE:20260404
DTEND;VALUE=DATE:20260406
DTSTAMP:20260424T192914
CREATED:20260107T142121Z
LAST-MODIFIED:20260107T142121Z
UID:4341-1775275200-1775361599@dublingandia.com
SUMMARY:TARDEO SESSION " LA COSMIC NORTE "
DESCRIPTION:
URL:https://dublingandia.com/concierto/tardeo-session-la-cosmic-norte/
LOCATION:Pub Dublin Gandia\, Rioja 38\, Playa de Gandia\, Valencia\, 46730\, España
CATEGORIES:Concierto
ATTACH;FMTTYPE=image/jpeg:https://dublingandia.com/wp-content/uploads/2026/01/04ABR.jpeg
END:VEVENT
BEGIN:VEVENT
DTSTART;VALUE=DATE:20260405
DTEND;VALUE=DATE:20260407
DTSTAMP:20260424T192914
CREATED:20260107T142332Z
LAST-MODIFIED:20260107T142332Z
UID:4344-1775361600-1775447999@dublingandia.com
SUMMARY:JAM SESSION " GRAHAM FOSTER BAND "
DESCRIPTION:
URL:https://dublingandia.com/concierto/jam-session-graham-foster-band-10/
LOCATION:Pub Dublin Gandia\, Rioja 38\, Playa de Gandia\, Valencia\, 46730\, España
CATEGORIES:Jam Session
ATTACH;FMTTYPE=image/jpeg:https://dublingandia.com/wp-content/uploads/2026/01/05ABR.jpeg
END:VEVENT
BEGIN:VEVENT
DTSTART;VALUE=DATE:20260410
DTEND;VALUE=DATE:20260412
DTSTAMP:20260424T192914
CREATED:20260107T214351Z
LAST-MODIFIED:20260224T004157Z
UID:4349-1775793600-1775879999@dublingandia.com
SUMMARY:NOCHES GOLFAS " NESTOR RAUSELL Y LOS IMPOSTORES "
DESCRIPTION:
URL:https://dublingandia.com/concierto/noches-golfas-diversos-2/
LOCATION:Pub Dublin Gandia\, Rioja 38\, Playa de Gandia\, Valencia\, 46730\, España
CATEGORIES:Concierto
ATTACH;FMTTYPE=image/jpeg:https://dublingandia.com/wp-content/uploads/2026/01/10ABR-1.jpeg
END:VEVENT
BEGIN:VEVENT
DTSTART;VALUE=DATE:20260411
DTEND;VALUE=DATE:20260413
DTSTAMP:20260424T192914
CREATED:20260117T133207Z
LAST-MODIFIED:20260117T133207Z
UID:4385-1775880000-1775966399@dublingandia.com
SUMMARY:TARDEO SESSION " CASI PERFECTOS "
DESCRIPTION:
URL:https://dublingandia.com/concierto/tardeo-session-casi-perfectos/
LOCATION:Pub Dublin Gandia\, Rioja 38\, Playa de Gandia\, Valencia\, 46730\, España
CATEGORIES:Concierto
ATTACH;FMTTYPE=image/jpeg:https://dublingandia.com/wp-content/uploads/2026/01/11ABR.jpeg
END:VEVENT
BEGIN:VEVENT
DTSTART;VALUE=DATE:20260412
DTEND;VALUE=DATE:20260414
DTSTAMP:20260424T192914
CREATED:20260309T005409Z
LAST-MODIFIED:20260309T005409Z
UID:4438-1775966400-1776052799@dublingandia.com
SUMMARY:VERMUT SESSION " GYPSYTONES ROCKETZ "
DESCRIPTION:VERSIONES DE CLASICOS DE LOS 80S ETC
URL:https://dublingandia.com/concierto/vermut-session-gypsytones-rocketz-2/
LOCATION:Pub Dublin Gandia\, Rioja 38\, Playa de Gandia\, Valencia\, 46730\, España
CATEGORIES:Concierto
ATTACH;FMTTYPE=image/jpeg:https://dublingandia.com/wp-content/uploads/2026/03/12ABR.jpeg
END:VEVENT
BEGIN:VEVENT
DTSTART;VALUE=DATE:20260417
DTEND;VALUE=DATE:20260419
DTSTAMP:20260424T192914
CREATED:20260105T122629Z
LAST-MODIFIED:20260105T122629Z
UID:4304-1776398400-1776484799@dublingandia.com
SUMMARY:NOCHES GOLFAS " ALAMO 51 "
DESCRIPTION:
URL:https://dublingandia.com/concierto/noches-golfas-alamo-51/
LOCATION:Pub Dublin Gandia\, Rioja 38\, Playa de Gandia\, Valencia\, 46730\, España
CATEGORIES:Concierto
ATTACH;FMTTYPE=image/jpeg:https://dublingandia.com/wp-content/uploads/2026/01/17ABR.jpeg
END:VEVENT
BEGIN:VEVENT
DTSTART;VALUE=DATE:20260418
DTEND;VALUE=DATE:20260420
DTSTAMP:20260424T192914
CREATED:20260118T231605Z
LAST-MODIFIED:20260118T231605Z
UID:4388-1776484800-1776571199@dublingandia.com
SUMMARY:TARDEO SESSION " THE BATELEURS " FROM PORTUGAL
DESCRIPTION:
URL:https://dublingandia.com/concierto/tardeo-session-the-bateleurs-from-portugal/
LOCATION:Pub Dublin Gandia\, Rioja 38\, Playa de Gandia\, Valencia\, 46730\, España
CATEGORIES:Concierto
ATTACH;FMTTYPE=image/jpeg:https://dublingandia.com/wp-content/uploads/2026/01/18ABR.jpg
END:VEVENT
BEGIN:VEVENT
DTSTART;VALUE=DATE:20260419
DTEND;VALUE=DATE:20260421
DTSTAMP:20260424T192914
CREATED:20260309T004012Z
LAST-MODIFIED:20260309T004012Z
UID:4435-1776571200-1776657599@dublingandia.com
SUMMARY:VERMUT SESSION "PERVERSIO"
DESCRIPTION:
URL:https://dublingandia.com/concierto/vermut-session-perversio-9/
LOCATION:Pub Dublin Gandia\, Rioja 38\, Playa de Gandia\, Valencia\, 46730\, España
CATEGORIES:Concierto
ATTACH;FMTTYPE=image/jpeg:https://dublingandia.com/wp-content/uploads/2026/03/19ABR.jpeg
END:VEVENT
BEGIN:VEVENT
DTSTART;VALUE=DATE:20260424
DTEND;VALUE=DATE:20260426
DTSTAMP:20260424T192914
CREATED:20260206T174151Z
LAST-MODIFIED:20260206T174151Z
UID:4403-1777003200-1777089599@dublingandia.com
SUMMARY:NOCHES GOLFAS " FURIOSA PAT "
DESCRIPTION:
URL:https://dublingandia.com/concierto/noches-golfas-furiosa-pat/
LOCATION:Pub Dublin Gandia\, Rioja 38\, Playa de Gandia\, Valencia\, 46730\, España
CATEGORIES:Concierto
ATTACH;FMTTYPE=image/jpeg:https://dublingandia.com/wp-content/uploads/2026/02/intagram-cartel.jpeg
END:VEVENT
BEGIN:VEVENT
DTSTART;VALUE=DATE:20260425
DTEND;VALUE=DATE:20260427
DTSTAMP:20260424T192914
CREATED:20260105T225746Z
LAST-MODIFIED:20260105T225746Z
UID:4322-1777089600-1777175999@dublingandia.com
SUMMARY:TARDEO SESSION " ELDERSTAG "
DESCRIPTION:
URL:https://dublingandia.com/concierto/tardeo-session-elderstag/
LOCATION:Pub Dublin Gandia\, Rioja 38\, Playa de Gandia\, Valencia\, 46730\, España
CATEGORIES:Concierto
ATTACH;FMTTYPE=image/jpeg:https://dublingandia.com/wp-content/uploads/2026/01/25ABR.jpeg
END:VEVENT
BEGIN:VEVENT
DTSTART;VALUE=DATE:20260426
DTEND;VALUE=DATE:20260428
DTSTAMP:20260424T192914
CREATED:20260309T001052Z
LAST-MODIFIED:20260327T163721Z
UID:4432-1777176000-1777262399@dublingandia.com
SUMMARY:VERMUT SESSION " SOUL DEALERS "
DESCRIPTION:BANDA DE VERSIONES DE MUSICA DISCO Y SOUL
URL:https://dublingandia.com/concierto/vermut-session-sonic-blue-rock-band/
LOCATION:Pub Dublin Gandia\, Rioja 38\, Playa de Gandia\, Valencia\, 46730\, España
CATEGORIES:Concierto
ATTACH;FMTTYPE=image/jpeg:https://dublingandia.com/wp-content/uploads/2026/03/26ABR-1.jpeg
END:VEVENT
BEGIN:VEVENT
DTSTART;VALUE=DATE:20260501
DTEND;VALUE=DATE:20260503
DTSTAMP:20260424T192914
CREATED:20260107T215933Z
LAST-MODIFIED:20260107T220608Z
UID:4352-1777608000-1777694399@dublingandia.com
SUMMARY:NOCHES GOLFAS " CHUCK NORRIS EXPERIMENT " FROM SWEDEN
DESCRIPTION:
URL:https://dublingandia.com/concierto/noches-golfas-chuck-norris-experiment/
LOCATION:Pub Dublin Gandia\, Rioja 38\, Playa de Gandia\, Valencia\, 46730\, España
CATEGORIES:Concierto
ATTACH;FMTTYPE=image/jpeg:https://dublingandia.com/wp-content/uploads/2026/01/01-MAY-1.jpeg
END:VEVENT
BEGIN:VEVENT
DTSTART;VALUE=DATE:20260502
DTEND;VALUE=DATE:20260504
DTSTAMP:20260424T192914
CREATED:20260312T005017Z
LAST-MODIFIED:20260312T005018Z
UID:4451-1777694400-1777780799@dublingandia.com
SUMMARY:TARDEO SESSION " JUSTDIEGO "
DESCRIPTION:
URL:https://dublingandia.com/concierto/tardeo-session-justdiego/
LOCATION:Pub Dublin Gandia\, Rioja 38\, Playa de Gandia\, Valencia\, 46730\, España
CATEGORIES:Concierto
ATTACH;FMTTYPE=image/jpeg:https://dublingandia.com/wp-content/uploads/2026/03/02MAY.jpg
END:VEVENT
BEGIN:VEVENT
DTSTART;VALUE=DATE:20260503
DTEND;VALUE=DATE:20260505
DTSTAMP:20260424T192914
CREATED:20260317T003843Z
LAST-MODIFIED:20260317T003843Z
UID:4464-1777780800-1777867199@dublingandia.com
SUMMARY:JAM SESSION " GRAHAM FOSTER BAND "
DESCRIPTION:
URL:https://dublingandia.com/concierto/jam-session-graham-foster-band-11/
LOCATION:Pub Dublin Gandia\, Rioja 38\, Playa de Gandia\, Valencia\, 46730\, España
CATEGORIES:Jam Session
ATTACH;FMTTYPE=image/jpeg:https://dublingandia.com/wp-content/uploads/2026/03/03MAY.jpeg
END:VEVENT
BEGIN:VEVENT
DTSTART;VALUE=DATE:20260508
DTEND;VALUE=DATE:20260510
DTSTAMP:20260424T192914
CREATED:20260107T140053Z
LAST-MODIFIED:20260107T140053Z
UID:4338-1778212800-1778299199@dublingandia.com
SUMMARY:NOCHES GOLFAS " LOS BIEN BIEN "
DESCRIPTION:
URL:https://dublingandia.com/concierto/noches-golfas-los-bien-bien-2/
LOCATION:Pub Dublin Gandia\, Rioja 38\, Playa de Gandia\, Valencia\, 46730\, España
CATEGORIES:Concierto
ATTACH;FMTTYPE=image/jpeg:https://dublingandia.com/wp-content/uploads/2026/01/08MAY.jpeg
END:VEVENT
END:VCALENDAR