BEGIN:VCALENDAR
VERSION:2.0
PRODID:-//Dublin Gandia - ECPv6.15.20//NONSGML v1.0//EN
CALSCALE:GREGORIAN
METHOD:PUBLISH
X-ORIGINAL-URL:https://dublingandia.com
X-WR-CALDESC:Eventos para Dublin Gandia
REFRESH-INTERVAL;VALUE=DURATION:PT1H
X-Robots-Tag:noindex
X-PUBLISHED-TTL:PT1H
BEGIN:VTIMEZONE
TZID:Europe/Madrid
BEGIN:DAYLIGHT
TZOFFSETFROM:+0100
TZOFFSETTO:+0200
TZNAME:CEST
DTSTART:20240331T010000
END:DAYLIGHT
BEGIN:STANDARD
TZOFFSETFROM:+0200
TZOFFSETTO:+0100
TZNAME:CET
DTSTART:20241027T010000
END:STANDARD
BEGIN:DAYLIGHT
TZOFFSETFROM:+0100
TZOFFSETTO:+0200
TZNAME:CEST
DTSTART:20250330T010000
END:DAYLIGHT
BEGIN:STANDARD
TZOFFSETFROM:+0200
TZOFFSETTO:+0100
TZNAME:CET
DTSTART:20251026T010000
END:STANDARD
BEGIN:DAYLIGHT
TZOFFSETFROM:+0100
TZOFFSETTO:+0200
TZNAME:CEST
DTSTART:20260329T010000
END:DAYLIGHT
BEGIN:STANDARD
TZOFFSETFROM:+0200
TZOFFSETTO:+0100
TZNAME:CET
DTSTART:20261025T010000
END:STANDARD
END:VTIMEZONE
BEGIN:VEVENT
DTSTART;VALUE=DATE:20250404
DTEND;VALUE=DATE:20250406
DTSTAMP:20260425T132334
CREATED:20241224T034323Z
LAST-MODIFIED:20241224T034323Z
UID:3423-1743739200-1743825599@dublingandia.com
SUMMARY:NOCHES GOLFAS " GUTTERCATS "
DESCRIPTION:
URL:https://dublingandia.com/concierto/noches-golfas-guttercats/
LOCATION:Pub Dublin Gandia\, Rioja 38\, Playa de Gandia\, Valencia\, 46730\, España
CATEGORIES:Concierto
ATTACH;FMTTYPE=image/jpeg:https://dublingandia.com/wp-content/uploads/2024/12/04ABR.jpeg
END:VEVENT
BEGIN:VEVENT
DTSTART;VALUE=DATE:20250405
DTEND;VALUE=DATE:20250407
DTSTAMP:20260425T132334
CREATED:20250213T233917Z
LAST-MODIFIED:20250224T122004Z
UID:3542-1743825600-1743911999@dublingandia.com
SUMMARY:TARDEO SESSION "FULCANELLI "
DESCRIPTION:
URL:https://dublingandia.com/concierto/tardeo-session-funcanelli/
LOCATION:Pub Dublin Gandia\, Rioja 38\, Playa de Gandia\, Valencia\, 46730\, España
CATEGORIES:Concierto
ATTACH;FMTTYPE=image/jpeg:https://dublingandia.com/wp-content/uploads/2025/02/05ABR-1.jpeg
END:VEVENT
BEGIN:VEVENT
DTSTART;VALUE=DATE:20250406
DTEND;VALUE=DATE:20250408
DTSTAMP:20260425T132334
CREATED:20250213T234250Z
LAST-MODIFIED:20250213T234250Z
UID:3545-1743912000-1743998399@dublingandia.com
SUMMARY:VERMUT JAM SESSION " GRAHAM FOSTER BAND "
DESCRIPTION:
URL:https://dublingandia.com/concierto/vermut-jam-session-graham-foster-band-8/
LOCATION:Pub Dublin Gandia\, Rioja 38\, Playa de Gandia\, Valencia\, 46730\, España
CATEGORIES:Jam Session
ATTACH;FMTTYPE=image/jpeg:https://dublingandia.com/wp-content/uploads/2025/02/06ABR.jpeg
END:VEVENT
BEGIN:VEVENT
DTSTART;VALUE=DATE:20250411
DTEND;VALUE=DATE:20250413
DTSTAMP:20260425T132334
CREATED:20250213T234704Z
LAST-MODIFIED:20250213T234704Z
UID:3552-1744344000-1744430399@dublingandia.com
SUMMARY:NOCHES GOLFAS " TERRAL "
DESCRIPTION:
URL:https://dublingandia.com/concierto/noches-golfas-terral-2/
LOCATION:Pub Dublin Gandia\, Rioja 38\, Playa de Gandia\, Valencia\, 46730\, España
CATEGORIES:Concierto
ATTACH;FMTTYPE=image/jpeg:https://dublingandia.com/wp-content/uploads/2025/02/11ABR-1.jpeg
END:VEVENT
BEGIN:VEVENT
DTSTART;VALUE=DATE:20250412
DTEND;VALUE=DATE:20250414
DTSTAMP:20260425T132334
CREATED:20250213T235008Z
LAST-MODIFIED:20250213T235008Z
UID:3555-1744430400-1744516799@dublingandia.com
SUMMARY:TARDEO SESSION " ANTIMUMS "
DESCRIPTION:
URL:https://dublingandia.com/concierto/tardeo-session-antimums/
LOCATION:Pub Dublin Gandia\, Rioja 38\, Playa de Gandia\, Valencia\, 46730\, España
CATEGORIES:Concierto
ATTACH;FMTTYPE=image/jpeg:https://dublingandia.com/wp-content/uploads/2025/02/12ABR.jpeg
END:VEVENT
BEGIN:VEVENT
DTSTART;VALUE=DATE:20250413
DTEND;VALUE=DATE:20250415
DTSTAMP:20260425T132334
CREATED:20250213T235615Z
LAST-MODIFIED:20250213T235615Z
UID:3558-1744516800-1744603199@dublingandia.com
SUMMARY:VERMUT SESSION " PLANET 8 "
DESCRIPTION:
URL:https://dublingandia.com/concierto/vermut-session-planet-8-5/
LOCATION:Pub Dublin Gandia\, Rioja 38\, Playa de Gandia\, Valencia\, 46730\, España
CATEGORIES:Concierto
ATTACH;FMTTYPE=image/jpeg:https://dublingandia.com/wp-content/uploads/2025/02/13ABR.jpeg
END:VEVENT
BEGIN:VEVENT
DTSTART;VALUE=DATE:20250418
DTEND;VALUE=DATE:20250420
DTSTAMP:20260425T132334
CREATED:20250408T130247Z
LAST-MODIFIED:20250408T130247Z
UID:3651-1744948800-1745035199@dublingandia.com
SUMMARY:NOCHES GOLFAS " KALA'AN BOYS "
DESCRIPTION:
URL:https://dublingandia.com/concierto/noches-golfas-kalaan-boys/
LOCATION:Pub Dublin Gandia\, Rioja 38\, Playa de Gandia\, Valencia\, 46730\, España
CATEGORIES:Concierto
ATTACH;FMTTYPE=image/jpeg:https://dublingandia.com/wp-content/uploads/2025/04/18ABR.jpeg
END:VEVENT
BEGIN:VEVENT
DTSTART;VALUE=DATE:20250419
DTEND;VALUE=DATE:20250421
DTSTAMP:20260425T132334
CREATED:20250213T235924Z
LAST-MODIFIED:20250214T001351Z
UID:3561-1745035200-1745121599@dublingandia.com
SUMMARY:TARDEO SESSION " ONES "
DESCRIPTION:
URL:https://dublingandia.com/concierto/tardeo-session-ones-2/
LOCATION:Pub Dublin Gandia\, Rioja 38\, Playa de Gandia\, Valencia\, 46730\, España
CATEGORIES:Concierto
ATTACH;FMTTYPE=image/jpeg:https://dublingandia.com/wp-content/uploads/2025/02/19ABR-1.jpeg
END:VEVENT
BEGIN:VEVENT
DTSTART;VALUE=DATE:20250420
DTEND;VALUE=DATE:20250422
DTSTAMP:20260425T132334
CREATED:20250214T001707Z
LAST-MODIFIED:20250412T091709Z
UID:3565-1745121600-1745207999@dublingandia.com
SUMMARY:VERMUT SESSION " PLANET 8 AND THE EASTER BUNNY "
DESCRIPTION:BANDA DE VERSIONES
URL:https://dublingandia.com/concierto/vermut-session-empty-bottles/
LOCATION:Pub Dublin Gandia\, Rioja 38\, Playa de Gandia\, Valencia\, 46730\, España
CATEGORIES:Concierto
ATTACH;FMTTYPE=image/jpeg:https://dublingandia.com/wp-content/uploads/2025/02/20ABR-2.jpeg
END:VEVENT
BEGIN:VEVENT
DTSTART;VALUE=DATE:20250425
DTEND;VALUE=DATE:20250427
DTSTAMP:20260425T132334
CREATED:20250214T002920Z
LAST-MODIFIED:20250214T002921Z
UID:3572-1745553600-1745639999@dublingandia.com
SUMMARY:NOCHES GOLFAS " LOS SEX "
DESCRIPTION:
URL:https://dublingandia.com/concierto/noches-golfas-los-sex-2/
LOCATION:Pub Dublin Gandia\, Rioja 38\, Playa de Gandia\, Valencia\, 46730\, España
ATTACH;FMTTYPE=image/jpeg:https://dublingandia.com/wp-content/uploads/2025/02/25ABR.jpeg
END:VEVENT
BEGIN:VEVENT
DTSTART;VALUE=DATE:20250426
DTEND;VALUE=DATE:20250428
DTSTAMP:20260425T132334
CREATED:20250214T002528Z
LAST-MODIFIED:20250214T002648Z
UID:3568-1745640000-1745726399@dublingandia.com
SUMMARY:TARDEO SESSION " RIPALDA "
DESCRIPTION:Ripalda. Pop psicodèlic a la vora de la Mediterrània. Banda formada a l’àrea metropolitana de València. Amb lletres que onegen entre el costumisme i el surrealisme\, i amb melodies que et portaran pels racons suggerents i misteriosos d’antics palaus ja desapareguts. Els seus membres s’han arrimat sempre als gèneres underground del garage i del folc\, formant part de bandes com Llobarros\, Musicants o Ali-Farnat.
URL:https://dublingandia.com/concierto/tardeo-session-ripalda/
LOCATION:Pub Dublin Gandia\, Rioja 38\, Playa de Gandia\, Valencia\, 46730\, España
CATEGORIES:Concierto
ATTACH;FMTTYPE=image/jpeg:https://dublingandia.com/wp-content/uploads/2025/02/26ABR.jpeg
END:VEVENT
BEGIN:VEVENT
DTSTART;VALUE=DATE:20250427
DTEND;VALUE=DATE:20250429
DTSTAMP:20260425T132334
CREATED:20250214T003234Z
LAST-MODIFIED:20250307T094945Z
UID:3575-1745726400-1745812799@dublingandia.com
SUMMARY:VERMUT SESSION " SOUL DEALERS "
DESCRIPTION:Banda de versiones soul & funk y disco
URL:https://dublingandia.com/concierto/vermut-session-los-montoya-4/
LOCATION:Pub Dublin Gandia\, Rioja 38\, Playa de Gandia\, Valencia\, 46730\, España
CATEGORIES:Concierto
ATTACH;FMTTYPE=image/jpeg:https://dublingandia.com/wp-content/uploads/2025/02/27ABR-1.jpeg
END:VEVENT
BEGIN:VEVENT
DTSTART;VALUE=DATE:20250502
DTEND;VALUE=DATE:20250504
DTSTAMP:20260425T132334
CREATED:20250115T120828Z
LAST-MODIFIED:20250115T120829Z
UID:3511-1746158400-1746244799@dublingandia.com
SUMMARY:NOCHES GOLFAS " LOS RETUMBES "
DESCRIPTION:
URL:https://dublingandia.com/concierto/noches-golfas-los-retumbes/
LOCATION:Pub Dublin Gandia\, Rioja 38\, Playa de Gandia\, Valencia\, 46730\, España
CATEGORIES:Concierto
ATTACH;FMTTYPE=image/jpeg:https://dublingandia.com/wp-content/uploads/2025/01/02MAY.jpeg
END:VEVENT
BEGIN:VEVENT
DTSTART;VALUE=DATE:20250503
DTEND;VALUE=DATE:20250505
DTSTAMP:20260425T132334
CREATED:20250128T111814Z
LAST-MODIFIED:20250327T152735Z
UID:3528-1746244800-1746331199@dublingandia.com
SUMMARY:TARDEO SESSION "  RADIOACTIVAS "
DESCRIPTION:
URL:https://dublingandia.com/concierto/tardeo-session-las-radioactivas/
LOCATION:Pub Dublin Gandia\, Rioja 38\, Playa de Gandia\, Valencia\, 46730\, España
CATEGORIES:Concierto
ATTACH;FMTTYPE=image/jpeg:https://dublingandia.com/wp-content/uploads/2025/01/03MAY-1.jpeg
END:VEVENT
BEGIN:VEVENT
DTSTART;VALUE=DATE:20250504
DTEND;VALUE=DATE:20250506
DTSTAMP:20260425T132334
CREATED:20250224T192543Z
LAST-MODIFIED:20250224T192543Z
UID:3595-1746331200-1746417599@dublingandia.com
SUMMARY:VERMUT JAM SESSION " GRAHAM FOSTER BAND "
DESCRIPTION:
URL:https://dublingandia.com/concierto/vermut-jam-session-graham-foster-band-10/
LOCATION:Pub Dublin Gandia\, Rioja 38\, Playa de Gandia\, Valencia\, 46730\, España
CATEGORIES:Jam Session
ATTACH;FMTTYPE=image/jpeg:https://dublingandia.com/wp-content/uploads/2025/02/04MAY.jpeg
END:VEVENT
BEGIN:VEVENT
DTSTART;VALUE=DATE:20250509
DTEND;VALUE=DATE:20250511
DTSTAMP:20260425T132334
CREATED:20241224T040554Z
LAST-MODIFIED:20250505T173024Z
UID:3426-1746763200-1746849599@dublingandia.com
SUMMARY:NOCHES GOLFAS " THE RAVAGERS "
DESCRIPTION:
URL:https://dublingandia.com/concierto/noches-golfas-the-ravengers/
LOCATION:Pub Dublin Gandia\, Rioja 38\, Playa de Gandia\, Valencia\, 46730\, España
CATEGORIES:Concierto
ATTACH;FMTTYPE=image/jpeg:https://dublingandia.com/wp-content/uploads/2024/12/09MAY.jpeg
END:VEVENT
BEGIN:VEVENT
DTSTART;VALUE=DATE:20250510
DTEND;VALUE=DATE:20250512
DTSTAMP:20260425T132334
CREATED:20250224T202755Z
LAST-MODIFIED:20250224T202756Z
UID:3598-1746849600-1746935999@dublingandia.com
SUMMARY:TARDEO SESSION " LËON "
DESCRIPTION:
URL:https://dublingandia.com/concierto/tardeo-session-leon/
LOCATION:Pub Dublin Gandia\, Rioja 38\, Playa de Gandia\, Valencia\, 46730\, España
ATTACH;FMTTYPE=image/jpeg:https://dublingandia.com/wp-content/uploads/2025/02/10MAY.jpeg
END:VEVENT
BEGIN:VEVENT
DTSTART;VALUE=DATE:20250511
DTEND;VALUE=DATE:20250513
DTSTAMP:20260425T132334
CREATED:20250224T220542Z
LAST-MODIFIED:20250403T142251Z
UID:3601-1746936000-1747022399@dublingandia.com
SUMMARY:VERMUT SESSION " ALAMAN BROTHERS "
DESCRIPTION:BANDA DE VERSIONES INTERNACIONALES
URL:https://dublingandia.com/concierto/vermut-session-alaman-brothers/
LOCATION:Pub Dublin Gandia\, Rioja 38\, Playa de Gandia\, Valencia\, 46730\, España
CATEGORIES:Concierto
ATTACH;FMTTYPE=image/jpeg:https://dublingandia.com/wp-content/uploads/2025/02/11MAY-1.jpeg
END:VEVENT
BEGIN:VEVENT
DTSTART;VALUE=DATE:20250516
DTEND;VALUE=DATE:20250518
DTSTAMP:20260425T132334
CREATED:20250408T123636Z
LAST-MODIFIED:20250408T123916Z
UID:3648-1747368000-1747454399@dublingandia.com
SUMMARY:NOCHES GOLFAS "EXFAN"
DESCRIPTION:
URL:https://dublingandia.com/concierto/noches-golfas-exfan/
LOCATION:Pub Dublin Gandia\, Rioja 38\, Playa de Gandia\, Valencia\, 46730\, España
CATEGORIES:Concierto
ATTACH;FMTTYPE=image/jpeg:https://dublingandia.com/wp-content/uploads/2025/04/16MAY.jpeg
END:VEVENT
BEGIN:VEVENT
DTSTART;VALUE=DATE:20250517
DTEND;VALUE=DATE:20250519
DTSTAMP:20260425T132334
CREATED:20250319T225656Z
LAST-MODIFIED:20250319T225656Z
UID:3618-1747454400-1747540799@dublingandia.com
SUMMARY:TARDEO SESSION "KAMIKAZES HELMETS "
DESCRIPTION:
URL:https://dublingandia.com/concierto/tardeo-session-kamikazes-helmets/
LOCATION:Pub Dublin Gandia\, Rioja 38\, Playa de Gandia\, Valencia\, 46730\, España
CATEGORIES:Concierto
ATTACH;FMTTYPE=image/jpeg:https://dublingandia.com/wp-content/uploads/2025/03/17MAYO.jpg
END:VEVENT
BEGIN:VEVENT
DTSTART;VALUE=DATE:20250518
DTEND;VALUE=DATE:20250520
DTSTAMP:20260425T132334
CREATED:20250225T024537Z
LAST-MODIFIED:20250508T222748Z
UID:3605-1747540800-1747627199@dublingandia.com
SUMMARY:VERMUT SESSION " HILLARY'S ROCK AND SOUL  "
DESCRIPTION:BANDA DE VERSIONES INTERNACIONALES
URL:https://dublingandia.com/concierto/vermut-session-splinter/
LOCATION:Pub Dublin Gandia\, Rioja 38\, Playa de Gandia\, Valencia\, 46730\, España
CATEGORIES:Concierto
ATTACH;FMTTYPE=image/jpeg:https://dublingandia.com/wp-content/uploads/2025/02/18MAY-1.jpeg
END:VEVENT
BEGIN:VEVENT
DTSTART;VALUE=DATE:20250523
DTEND;VALUE=DATE:20250525
DTSTAMP:20260425T132334
CREATED:20250320T001106Z
LAST-MODIFIED:20250320T001107Z
UID:3621-1747972800-1748059199@dublingandia.com
SUMMARY:NOCHES GOLFAS " THE RED CROW " FROM PORTUGAL
DESCRIPTION:
URL:https://dublingandia.com/concierto/noches-golfas-the-red-crow-from-portugal/
LOCATION:Pub Dublin Gandia\, Rioja 38\, Playa de Gandia\, Valencia\, 46730\, España
CATEGORIES:Concierto
ATTACH;FMTTYPE=image/jpeg:https://dublingandia.com/wp-content/uploads/2025/03/23MAY.jpg
END:VEVENT
BEGIN:VEVENT
DTSTART;VALUE=DATE:20250524
DTEND;VALUE=DATE:20250526
DTSTAMP:20260425T132334
CREATED:20250320T002104Z
LAST-MODIFIED:20250327T121126Z
UID:3624-1748059200-1748145599@dublingandia.com
SUMMARY:TARDEO SESSION "OLD CODY "
DESCRIPTION:HOMENAJE A LA CREEDENCE CLEARWATER REVIVAL
URL:https://dublingandia.com/concierto/tardeo-session-old-cody/
LOCATION:Pub Dublin Gandia\, Rioja 38\, Playa de Gandia\, Valencia\, 46730\, España
CATEGORIES:Concierto
ATTACH;FMTTYPE=image/jpeg:https://dublingandia.com/wp-content/uploads/2025/03/24MAY-1.jpeg
END:VEVENT
BEGIN:VEVENT
DTSTART;VALUE=DATE:20250525
DTEND;VALUE=DATE:20250527
DTSTAMP:20260425T132334
CREATED:20250320T002821Z
LAST-MODIFIED:20250327T121249Z
UID:3627-1748145600-1748231999@dublingandia.com
SUMMARY:VERMUT SESSION "TODO SUCEDIO UN MARTES "
DESCRIPTION:BANDA DE VERSIONES internacional y nacional
URL:https://dublingandia.com/concierto/vermut-session-todo-sucedio-un-martes-9/
LOCATION:Pub Dublin Gandia\, Rioja 38\, Playa de Gandia\, Valencia\, 46730\, España
CATEGORIES:Concierto
ATTACH;FMTTYPE=image/jpeg:https://dublingandia.com/wp-content/uploads/2025/03/25MAY.jpeg
END:VEVENT
BEGIN:VEVENT
DTSTART;VALUE=DATE:20250530
DTEND;VALUE=DATE:20250601
DTSTAMP:20260425T132334
CREATED:20250403T140529Z
LAST-MODIFIED:20250403T140529Z
UID:3638-1748577600-1748663999@dublingandia.com
SUMMARY:NOCHES GOLFAS " AMERICAN GHOST "
DESCRIPTION:
URL:https://dublingandia.com/concierto/noches-golfas-american-ghost-2/
LOCATION:Pub Dublin Gandia\, Rioja 38\, Playa de Gandia\, Valencia\, 46730\, España
CATEGORIES:Concierto
ATTACH;FMTTYPE=image/jpeg:https://dublingandia.com/wp-content/uploads/2025/04/30MAY.jpeg
END:VEVENT
BEGIN:VEVENT
DTSTART;VALUE=DATE:20250531
DTEND;VALUE=DATE:20250602
DTSTAMP:20260425T132334
CREATED:20250403T140749Z
LAST-MODIFIED:20250516T141132Z
UID:3641-1748664000-1748750399@dublingandia.com
SUMMARY:TARDEO SESSION " CARTERO ROCKERO "
DESCRIPTION:BANDA DE VERSIONES SEX PISTOLS\, CLASH ETC ETC
URL:https://dublingandia.com/concierto/tardeo-session-pataliebre/
LOCATION:Pub Dublin Gandia\, Rioja 38\, Playa de Gandia\, Valencia\, 46730\, España
CATEGORIES:Concierto
ATTACH;FMTTYPE=image/jpeg:https://dublingandia.com/wp-content/uploads/2025/04/31MAY-1.jpeg
END:VEVENT
BEGIN:VEVENT
DTSTART;VALUE=DATE:20250601
DTEND;VALUE=DATE:20250603
DTSTAMP:20260425T132334
CREATED:20250408T132937Z
LAST-MODIFIED:20250408T132937Z
UID:3656-1748750400-1748836799@dublingandia.com
SUMMARY:VERMUT SESSION " GRAHAM FOSTER BAND " JAM SESSION
DESCRIPTION:
URL:https://dublingandia.com/concierto/vermut-session-graham-foster-band-jam-session-5/
LOCATION:Pub Dublin Gandia\, Rioja 38\, Playa de Gandia\, Valencia\, 46730\, España
CATEGORIES:Concierto,Jam Session
ATTACH;FMTTYPE=image/jpeg:https://dublingandia.com/wp-content/uploads/2025/04/01JUN.jpeg
END:VEVENT
BEGIN:VEVENT
DTSTART;VALUE=DATE:20250606
DTEND;VALUE=DATE:20250608
DTSTAMP:20260425T132334
CREATED:20250408T133128Z
LAST-MODIFIED:20250522T095320Z
UID:3659-1749182400-1749268799@dublingandia.com
SUMMARY:NOCHES GOLFAS " DONKEY KICK "
DESCRIPTION:
URL:https://dublingandia.com/concierto/noches-golfas-bordestones-2/
LOCATION:Pub Dublin Gandia\, Rioja 38\, Playa de Gandia\, Valencia\, 46730\, España
CATEGORIES:Concierto
ATTACH;FMTTYPE=image/jpeg:https://dublingandia.com/wp-content/uploads/2025/04/06JUN-1.jpeg
END:VEVENT
BEGIN:VEVENT
DTSTART;VALUE=DATE:20250607
DTEND;VALUE=DATE:20250609
DTSTAMP:20260425T132334
CREATED:20250408T135402Z
LAST-MODIFIED:20250408T135402Z
UID:3662-1749268800-1749355199@dublingandia.com
SUMMARY:TARDEO SESSION " COCAINE "
DESCRIPTION:
URL:https://dublingandia.com/concierto/tardeo-session-cocaine-2/
LOCATION:Pub Dublin Gandia\, Rioja 38\, Playa de Gandia\, Valencia\, 46730\, España
CATEGORIES:Concierto
ATTACH;FMTTYPE=image/jpeg:https://dublingandia.com/wp-content/uploads/2025/04/07JUN.jpeg
END:VEVENT
BEGIN:VEVENT
DTSTART;VALUE=DATE:20250608
DTEND;VALUE=DATE:20250610
DTSTAMP:20260425T132334
CREATED:20250512T204334Z
LAST-MODIFIED:20250512T204335Z
UID:3698-1749355200-1749441599@dublingandia.com
SUMMARY:VERMUT SESSION " SOLO STONES"
DESCRIPTION:BANDA HOMENAJE A LOS STONES
URL:https://dublingandia.com/concierto/vermut-session-solo-stones-8/
LOCATION:Pub Dublin Gandia\, Rioja 38\, Playa de Gandia\, Valencia\, 46730\, España
CATEGORIES:Concierto
ATTACH;FMTTYPE=image/jpeg:https://dublingandia.com/wp-content/uploads/2025/05/08JUN.jpeg
END:VEVENT
END:VCALENDAR