BEGIN:VCALENDAR
VERSION:2.0
PRODID:-//Dublin Gandia - ECPv6.15.20//NONSGML v1.0//EN
CALSCALE:GREGORIAN
METHOD:PUBLISH
X-WR-CALNAME:Dublin Gandia
X-ORIGINAL-URL:https://dublingandia.com
X-WR-CALDESC:Eventos para Dublin Gandia
REFRESH-INTERVAL;VALUE=DURATION:PT1H
X-Robots-Tag:noindex
X-PUBLISHED-TTL:PT1H
BEGIN:VTIMEZONE
TZID:Europe/Madrid
BEGIN:DAYLIGHT
TZOFFSETFROM:+0100
TZOFFSETTO:+0200
TZNAME:CEST
DTSTART:20250330T010000
END:DAYLIGHT
BEGIN:STANDARD
TZOFFSETFROM:+0200
TZOFFSETTO:+0100
TZNAME:CET
DTSTART:20251026T010000
END:STANDARD
BEGIN:DAYLIGHT
TZOFFSETFROM:+0100
TZOFFSETTO:+0200
TZNAME:CEST
DTSTART:20260329T010000
END:DAYLIGHT
BEGIN:STANDARD
TZOFFSETFROM:+0200
TZOFFSETTO:+0100
TZNAME:CET
DTSTART:20261025T010000
END:STANDARD
BEGIN:DAYLIGHT
TZOFFSETFROM:+0100
TZOFFSETTO:+0200
TZNAME:CEST
DTSTART:20270328T010000
END:DAYLIGHT
BEGIN:STANDARD
TZOFFSETFROM:+0200
TZOFFSETTO:+0100
TZNAME:CET
DTSTART:20271031T010000
END:STANDARD
END:VTIMEZONE
BEGIN:VEVENT
DTSTART;VALUE=DATE:20260516
DTEND;VALUE=DATE:20260518
DTSTAMP:20260424T161148
CREATED:20260312T011544Z
LAST-MODIFIED:20260312T011607Z
UID:4455-1778904000-1778990399@dublingandia.com
SUMMARY:TARDEO SESSION " MADUA "
DESCRIPTION:
URL:https://dublingandia.com/concierto/tardeo-session-madua/
LOCATION:Pub Dublin Gandia\, Rioja 38\, Playa de Gandia\, Valencia\, 46730\, España
CATEGORIES:Concierto
ATTACH;FMTTYPE=image/jpeg:https://dublingandia.com/wp-content/uploads/2026/03/16MAY.jpeg
END:VEVENT
BEGIN:VEVENT
DTSTART;VALUE=DATE:20260517
DTEND;VALUE=DATE:20260519
DTSTAMP:20260424T161148
CREATED:20260405T091208Z
LAST-MODIFIED:20260405T091208Z
UID:4503-1778990400-1779076799@dublingandia.com
SUMMARY:VERMUT SESSION " PAYBACK "
DESCRIPTION:BANDA DE VERSIONES DE MUSICA INTERNACIONAL
URL:https://dublingandia.com/concierto/vermut-session-payback-6/
LOCATION:Pub Dublin Gandia\, Rioja 38\, Playa de Gandia\, Valencia\, 46730\, España
CATEGORIES:Concierto
ATTACH;FMTTYPE=image/jpeg:https://dublingandia.com/wp-content/uploads/2026/04/17MAY.jpeg
END:VEVENT
BEGIN:VEVENT
DTSTART;VALUE=DATE:20260522
DTEND;VALUE=DATE:20260524
DTSTAMP:20260424T161148
CREATED:20260414T130829Z
LAST-MODIFIED:20260414T131216Z
UID:4542-1779422400-1779508799@dublingandia.com
SUMMARY:NOCHES GOLFAS " 4STROKES "
DESCRIPTION:
URL:https://dublingandia.com/concierto/noches-golfas-4strokes/
LOCATION:Pub Dublin Gandia\, Rioja 38\, Playa de Gandia\, Valencia\, 46730\, España
CATEGORIES:Concierto
ATTACH;FMTTYPE=image/jpeg:https://dublingandia.com/wp-content/uploads/2026/04/22MAY.jpeg
END:VEVENT
BEGIN:VEVENT
DTSTART;VALUE=DATE:20260523
DTEND;VALUE=DATE:20260525
DTSTAMP:20260424T161148
CREATED:20260311T232441Z
LAST-MODIFIED:20260311T232441Z
UID:4443-1779508800-1779595199@dublingandia.com
SUMMARY:NOCHES GOLFAS " AMYJO DOH & THE SPANGLES
DESCRIPTION:
URL:https://dublingandia.com/concierto/noches-golfas-amyjo-doh-the-spangles/
LOCATION:Pub Dublin Gandia\, Rioja 38\, Playa de Gandia\, Valencia\, 46730\, España
CATEGORIES:Concierto
ATTACH;FMTTYPE=image/jpeg:https://dublingandia.com/wp-content/uploads/2026/03/23MAY.jpeg
END:VEVENT
BEGIN:VEVENT
DTSTART;VALUE=DATE:20260524
DTEND;VALUE=DATE:20260526
DTSTAMP:20260424T161148
CREATED:20260331T090710Z
LAST-MODIFIED:20260331T090710Z
UID:4488-1779595200-1779681599@dublingandia.com
SUMMARY:VERMUT SESSION " MODERN OLDERS "
DESCRIPTION:BANDA DE VERSIONES POP & ROCK
URL:https://dublingandia.com/concierto/vermut-session-modern-olders/
LOCATION:Pub Dublin Gandia\, Rioja 38\, Playa de Gandia\, Valencia\, 46730\, España
CATEGORIES:Concierto
ATTACH;FMTTYPE=image/jpeg:https://dublingandia.com/wp-content/uploads/2026/03/24MAY.jpeg
END:VEVENT
BEGIN:VEVENT
DTSTART;VALUE=DATE:20260529
DTEND;VALUE=DATE:20260531
DTSTAMP:20260424T161148
CREATED:20260331T091126Z
LAST-MODIFIED:20260331T091126Z
UID:4491-1780027200-1780113599@dublingandia.com
SUMMARY:NOCHES GOLFAS " MADDENING FLAMES "
DESCRIPTION:
URL:https://dublingandia.com/concierto/noches-golfas-maddening-flames/
LOCATION:Pub Dublin Gandia\, Rioja 38\, Playa de Gandia\, Valencia\, 46730\, España
CATEGORIES:Concierto
ATTACH;FMTTYPE=image/jpeg:https://dublingandia.com/wp-content/uploads/2026/03/29MAY.jpeg
END:VEVENT
BEGIN:VEVENT
DTSTART;VALUE=DATE:20260530
DTEND;VALUE=DATE:20260601
DTSTAMP:20260424T161148
CREATED:20260405T092951Z
LAST-MODIFIED:20260405T092951Z
UID:4506-1780113600-1780199999@dublingandia.com
SUMMARY:NOCHES GOLFAS " MENDOZA "
DESCRIPTION:
URL:https://dublingandia.com/concierto/noches-golfas-mendoza/
LOCATION:Pub Dublin Gandia\, Rioja 38\, Playa de Gandia\, Valencia\, 46730\, España
CATEGORIES:Concierto
ATTACH;FMTTYPE=image/jpeg:https://dublingandia.com/wp-content/uploads/2026/04/30MAY.jpeg
END:VEVENT
BEGIN:VEVENT
DTSTART;VALUE=DATE:20260531
DTEND;VALUE=DATE:20260602
DTSTAMP:20260424T161148
CREATED:20260331T091625Z
LAST-MODIFIED:20260331T091625Z
UID:4494-1780200000-1780286399@dublingandia.com
SUMMARY:VERMUT SESSION " ELS CAPELLANS "
DESCRIPTION:BANDA DE VERSIONES
URL:https://dublingandia.com/concierto/vermut-session-els-capellans/
LOCATION:Pub Dublin Gandia\, Rioja 38\, Playa de Gandia\, Valencia\, 46730\, España
CATEGORIES:Concierto
ATTACH;FMTTYPE=image/jpeg:https://dublingandia.com/wp-content/uploads/2026/03/31MAY.jpeg
END:VEVENT
BEGIN:VEVENT
DTSTART;VALUE=DATE:20260605
DTEND;VALUE=DATE:20260607
DTSTAMP:20260424T161148
CREATED:20260317T010029Z
LAST-MODIFIED:20260317T010333Z
UID:4467-1780632000-1780718399@dublingandia.com
SUMMARY:NOCHES GOLFAS " ON FIRE  " UN HOMENAJE A AC/DC
DESCRIPTION:
URL:https://dublingandia.com/concierto/noches-golfas-on-fire-un-homenaje-a-ac-dc/
LOCATION:Pub Dublin Gandia\, Rioja 38\, Playa de Gandia\, Valencia\, 46730\, España
CATEGORIES:Concierto
ATTACH;FMTTYPE=image/jpeg:https://dublingandia.com/wp-content/uploads/2026/03/05JUN.jpeg
END:VEVENT
BEGIN:VEVENT
DTSTART;VALUE=DATE:20260606
DTEND;VALUE=DATE:20260608
DTSTAMP:20260424T161148
CREATED:20260107T225038Z
LAST-MODIFIED:20260107T225038Z
UID:4357-1780718400-1780804799@dublingandia.com
SUMMARY:NOCHES GOLFAS " ROBERT PERDUT "
DESCRIPTION:
URL:https://dublingandia.com/concierto/noches-golfas-robert-perdut-2/
LOCATION:Pub Dublin Gandia\, Rioja 38\, Playa de Gandia\, Valencia\, 46730\, España
CATEGORIES:Concierto
ATTACH;FMTTYPE=image/jpeg:https://dublingandia.com/wp-content/uploads/2026/01/06JUN.jpeg
END:VEVENT
BEGIN:VEVENT
DTSTART;VALUE=DATE:20260607
DTEND;VALUE=DATE:20260609
DTSTAMP:20260424T161148
CREATED:20260411T235512Z
LAST-MODIFIED:20260411T235512Z
UID:4518-1780804800-1780891199@dublingandia.com
SUMMARY:JAM SESSION " GRAHAM FOSTER BAND "
DESCRIPTION:
URL:https://dublingandia.com/concierto/jam-session-graham-foster-band-12/
LOCATION:Pub Dublin Gandia\, Rioja 38\, Playa de Gandia\, Valencia\, 46730\, España
CATEGORIES:Jam Session
ATTACH;FMTTYPE=image/jpeg:https://dublingandia.com/wp-content/uploads/2026/04/07JUN.jpeg
END:VEVENT
BEGIN:VEVENT
DTSTART;VALUE=DATE:20260612
DTEND;VALUE=DATE:20260614
DTSTAMP:20260424T161148
CREATED:20260412T000923Z
LAST-MODIFIED:20260412T000924Z
UID:4521-1781236800-1781323199@dublingandia.com
SUMMARY:NOCHES GOLFAS " LAUREN ARCHER EXPERIENCE "
DESCRIPTION:
URL:https://dublingandia.com/concierto/noches-golfas-lauren-archer-experience-2/
LOCATION:Pub Dublin Gandia\, Rioja 38\, Playa de Gandia\, Valencia\, 46730\, España
CATEGORIES:Concierto
ATTACH;FMTTYPE=image/jpeg:https://dublingandia.com/wp-content/uploads/2026/04/12JUN.jpeg
END:VEVENT
BEGIN:VEVENT
DTSTART;VALUE=DATE:20260613
DTEND;VALUE=DATE:20260615
DTSTAMP:20260424T161148
CREATED:20260412T002547Z
LAST-MODIFIED:20260412T002547Z
UID:4524-1781323200-1781409599@dublingandia.com
SUMMARY:NOCHES GOLFAS " PICANHA DE CHERNOBILL "
DESCRIPTION:
URL:https://dublingandia.com/concierto/noches-golfas-picanha-de-chernobill/
LOCATION:Pub Dublin Gandia\, Rioja 38\, Playa de Gandia\, Valencia\, 46730\, España
CATEGORIES:Concierto
ATTACH;FMTTYPE=image/jpeg:https://dublingandia.com/wp-content/uploads/2026/04/13JUN.jpeg
END:VEVENT
BEGIN:VEVENT
DTSTART;VALUE=DATE:20260614
DTEND;VALUE=DATE:20260616
DTSTAMP:20260424T161148
CREATED:20260409T002223Z
LAST-MODIFIED:20260409T002223Z
UID:4510-1781409600-1781495999@dublingandia.com
SUMMARY:VERMUT SESSION " RINCON CLANDESTINO "
DESCRIPTION:BANDA DE VERSIONES POP\, INDIE \, ROCK EN ESPAÑOL
URL:https://dublingandia.com/concierto/vermut-session-rincon-clandestino/
LOCATION:Pub Dublin Gandia\, Rioja 38\, Playa de Gandia\, Valencia\, 46730\, España
CATEGORIES:Concierto
ATTACH;FMTTYPE=image/jpeg:https://dublingandia.com/wp-content/uploads/2026/04/14JUN.jpeg
END:VEVENT
BEGIN:VEVENT
DTSTART;VALUE=DATE:20260619
DTEND;VALUE=DATE:20260621
DTSTAMP:20260424T161148
CREATED:20260327T170932Z
LAST-MODIFIED:20260327T170932Z
UID:4474-1781841600-1781927999@dublingandia.com
SUMMARY:NOCHES GOLFAS "Carolina Otero & The Someone Elses "
DESCRIPTION:
URL:https://dublingandia.com/concierto/noches-golfas-carolina-otero-the-someone-elses/
LOCATION:Pub Dublin Gandia\, Rioja 38\, Playa de Gandia\, Valencia\, 46730\, España
CATEGORIES:Concierto
ATTACH;FMTTYPE=image/jpeg:https://dublingandia.com/wp-content/uploads/2026/03/19JUN.jpeg
END:VEVENT
BEGIN:VEVENT
DTSTART;VALUE=DATE:20260620
DTEND;VALUE=DATE:20260622
DTSTAMP:20260424T161148
CREATED:20260117T115539Z
LAST-MODIFIED:20260117T120638Z
UID:4377-1781928000-1782014399@dublingandia.com
SUMMARY:NOCHES GOLFAS " LUBACK "
DESCRIPTION:
URL:https://dublingandia.com/concierto/noches-golfas-luback-2/
LOCATION:Pub Dublin Gandia\, Rioja 38\, Playa de Gandia\, Valencia\, 46730\, España
CATEGORIES:Concierto
ATTACH;FMTTYPE=image/jpeg:https://dublingandia.com/wp-content/uploads/2026/01/20JUN.jpg
END:VEVENT
BEGIN:VEVENT
DTSTART;VALUE=DATE:20260621
DTEND;VALUE=DATE:20260623
DTSTAMP:20260424T161148
CREATED:20260117T120856Z
LAST-MODIFIED:20260117T120856Z
UID:4382-1782014400-1782100799@dublingandia.com
SUMMARY:VERMUT SESSION " OLD FELLOWS "
DESCRIPTION:
URL:https://dublingandia.com/concierto/vermut-session-old-fellows-2/
LOCATION:Pub Dublin Gandia\, Rioja 38\, Playa de Gandia\, Valencia\, 46730\, España
CATEGORIES:Concierto
ATTACH;FMTTYPE=image/jpeg:https://dublingandia.com/wp-content/uploads/2026/01/21JUN.jpeg
END:VEVENT
BEGIN:VEVENT
DTSTART;VALUE=DATE:20260626
DTEND;VALUE=DATE:20260628
DTSTAMP:20260424T161148
CREATED:20260412T003835Z
LAST-MODIFIED:20260412T003835Z
UID:4527-1782446400-1782532799@dublingandia.com
SUMMARY:NOCHES GOLFAS " RODHER "
DESCRIPTION:
URL:https://dublingandia.com/concierto/noches-golfas-rodher/
LOCATION:Pub Dublin Gandia\, Rioja 38\, Playa de Gandia\, Valencia\, 46730\, España
CATEGORIES:Concierto
ATTACH;FMTTYPE=image/jpeg:https://dublingandia.com/wp-content/uploads/2026/04/26JUN.jpeg
END:VEVENT
BEGIN:VEVENT
DTSTART;VALUE=DATE:20260627
DTEND;VALUE=DATE:20260629
DTSTAMP:20260424T161148
CREATED:20260412T004518Z
LAST-MODIFIED:20260412T004518Z
UID:4533-1782532800-1782619199@dublingandia.com
SUMMARY:NOCHES GOLFAS " STAR MAFIA BOY & NEW GENERATION
DESCRIPTION:
URL:https://dublingandia.com/concierto/noches-golfas-star-mafia-boy-new-generation/
LOCATION:Pub Dublin Gandia\, Rioja 38\, Playa de Gandia\, Valencia\, 46730\, España
CATEGORIES:Concierto
ATTACH;FMTTYPE=image/jpeg:https://dublingandia.com/wp-content/uploads/2026/04/27JUN.jpeg
END:VEVENT
BEGIN:VEVENT
DTSTART;VALUE=DATE:20260628
DTEND;VALUE=DATE:20260630
DTSTAMP:20260424T161148
CREATED:20260412T004125Z
LAST-MODIFIED:20260412T004125Z
UID:4530-1782619200-1782705599@dublingandia.com
SUMMARY:VERMUT SESSION " NO NAME "
DESCRIPTION:BANDA DE VERSIONES ROCK
URL:https://dublingandia.com/concierto/vermut-session-no-name-9/
LOCATION:Pub Dublin Gandia\, Rioja 38\, Playa de Gandia\, Valencia\, 46730\, España
CATEGORIES:Concierto
ATTACH;FMTTYPE=image/jpeg:https://dublingandia.com/wp-content/uploads/2026/04/28JUN.jpeg
END:VEVENT
BEGIN:VEVENT
DTSTART;VALUE=DATE:20260703
DTEND;VALUE=DATE:20260705
DTSTAMP:20260424T161148
CREATED:20260414T173733Z
LAST-MODIFIED:20260414T173733Z
UID:4545-1783051200-1783137599@dublingandia.com
SUMMARY:NOCHES GOLFAS " SUPERGATOS "
DESCRIPTION:
URL:https://dublingandia.com/concierto/noches-golfas-supergatos/
LOCATION:Pub Dublin Gandia\, Rioja 38\, Playa de Gandia\, Valencia\, 46730\, España
CATEGORIES:Concierto
ATTACH;FMTTYPE=image/jpeg:https://dublingandia.com/wp-content/uploads/2026/04/03jul.jpeg
END:VEVENT
BEGIN:VEVENT
DTSTART;VALUE=DATE:20260704
DTEND;VALUE=DATE:20260706
DTSTAMP:20260424T161148
CREATED:20260414T183222Z
LAST-MODIFIED:20260414T183223Z
UID:4554-1783137600-1783223999@dublingandia.com
SUMMARY:NOCHES GOLFAS "  ROMÁN R'N'R CIRCUS "
DESCRIPTION:
URL:https://dublingandia.com/concierto/noches-golfas-roman-rnr-circus/
LOCATION:Pub Dublin Gandia\, Rioja 38\, Playa de Gandia\, Valencia\, 46730\, España
CATEGORIES:Concierto
ATTACH;FMTTYPE=image/jpeg:https://dublingandia.com/wp-content/uploads/2026/04/04JUL.jpeg
END:VEVENT
BEGIN:VEVENT
DTSTART;VALUE=DATE:20260705
DTEND;VALUE=DATE:20260707
DTSTAMP:20260424T161148
CREATED:20260414T214656Z
LAST-MODIFIED:20260414T214657Z
UID:4563-1783224000-1783310399@dublingandia.com
SUMMARY:VERMUT JAM SESSION "GRAHAM FOSTER BAND "
DESCRIPTION:
URL:https://dublingandia.com/concierto/vermut-jam-session-graham-foster-band-16/
LOCATION:Pub Dublin Gandia\, Rioja 38\, Playa de Gandia\, Valencia\, 46730\, España
CATEGORIES:Jam Session
ATTACH;FMTTYPE=image/jpeg:https://dublingandia.com/wp-content/uploads/2026/04/05JUL.jpeg
END:VEVENT
BEGIN:VEVENT
DTSTART;VALUE=DATE:20260710
DTEND;VALUE=DATE:20260712
DTSTAMP:20260424T161148
CREATED:20260414T181301Z
LAST-MODIFIED:20260414T181301Z
UID:4551-1783656000-1783742399@dublingandia.com
SUMMARY:NOCHES GOLFAS " SONIC ANGELS "
DESCRIPTION:
URL:https://dublingandia.com/concierto/noches-golfas-sonic-angels-2/
LOCATION:Pub Dublin Gandia\, Rioja 38\, Playa de Gandia\, Valencia\, 46730\, España
CATEGORIES:Concierto
ATTACH;FMTTYPE=image/jpeg:https://dublingandia.com/wp-content/uploads/2026/04/10JUL.jpeg
END:VEVENT
BEGIN:VEVENT
DTSTART;VALUE=DATE:20260711
DTEND;VALUE=DATE:20260713
DTSTAMP:20260424T161148
CREATED:20260414T213104Z
LAST-MODIFIED:20260414T213104Z
UID:4557-1783742400-1783828799@dublingandia.com
SUMMARY:NOCHES GOLFAS " DAPHNE "
DESCRIPTION:
URL:https://dublingandia.com/concierto/noches-golfas-daphne-3/
LOCATION:Pub Dublin Gandia\, Rioja 38\, Playa de Gandia\, Valencia\, 46730\, España
CATEGORIES:Concierto
ATTACH;FMTTYPE=image/jpeg:https://dublingandia.com/wp-content/uploads/2026/04/intagram-cartel.jpeg
END:VEVENT
BEGIN:VEVENT
DTSTART;VALUE=DATE:20260712
DTEND;VALUE=DATE:20260714
DTSTAMP:20260424T161148
CREATED:20260420T193044Z
LAST-MODIFIED:20260420T193044Z
UID:4592-1783828800-1783915199@dublingandia.com
SUMMARY:VERMUT SESSION " PLANET 8 "
DESCRIPTION:GRUPO DE VERSIONES DE LOS 80S INTERNACIONALES \n 
URL:https://dublingandia.com/concierto/vermut-session-planet-8-8/
LOCATION:Pub Dublin Gandia\, Rioja 38\, Playa de Gandia\, Valencia\, 46730\, España
CATEGORIES:Concierto
ATTACH;FMTTYPE=image/jpeg:https://dublingandia.com/wp-content/uploads/2026/04/12JUL.jpeg
END:VEVENT
BEGIN:VEVENT
DTSTART;VALUE=DATE:20260717
DTEND;VALUE=DATE:20260719
DTSTAMP:20260424T161148
CREATED:20260414T214327Z
LAST-MODIFIED:20260414T214327Z
UID:4560-1784260800-1784347199@dublingandia.com
SUMMARY:NOCHES GOLFAS " GHOST TRASMISSION "
DESCRIPTION:
URL:https://dublingandia.com/concierto/noches-golfas-ghost-trasmission/
LOCATION:Pub Dublin Gandia\, Rioja 38\, Playa de Gandia\, Valencia\, 46730\, España
CATEGORIES:Concierto
ATTACH;FMTTYPE=image/jpeg:https://dublingandia.com/wp-content/uploads/2026/04/17JUL.jpeg
END:VEVENT
BEGIN:VEVENT
DTSTART;VALUE=DATE:20260718
DTEND;VALUE=DATE:20260720
DTSTAMP:20260424T161148
CREATED:20260414T174858Z
LAST-MODIFIED:20260414T174859Z
UID:4548-1784347200-1784433599@dublingandia.com
SUMMARY:NOCHES GOLFAS " LOS PUTAS "
DESCRIPTION:BANDA DE CANCIONES DE ALGUIEN………..O NO.
URL:https://dublingandia.com/concierto/noches-golfas-los-putas-3/
LOCATION:Pub Dublin Gandia\, Rioja 38\, Playa de Gandia\, Valencia\, 46730\, España
CATEGORIES:Concierto
ATTACH;FMTTYPE=image/jpeg:https://dublingandia.com/wp-content/uploads/2026/04/Dublin-18-7-26.jpg
END:VEVENT
BEGIN:VEVENT
DTSTART;VALUE=DATE:20260724
DTEND;VALUE=DATE:20260726
DTSTAMP:20260424T161148
CREATED:20260414T215723Z
LAST-MODIFIED:20260414T215723Z
UID:4566-1784865600-1784951999@dublingandia.com
SUMMARY:NOCHES GOLFAS " SOUL BANDIDOS "
DESCRIPTION:
URL:https://dublingandia.com/concierto/noches-golfas-soul-bandidos-2/
LOCATION:Pub Dublin Gandia\, Rioja 38\, Playa de Gandia\, Valencia\, 46730\, España
CATEGORIES:Concierto
ATTACH;FMTTYPE=image/jpeg:https://dublingandia.com/wp-content/uploads/2026/04/24JUL.jpeg
END:VEVENT
BEGIN:VEVENT
DTSTART;VALUE=DATE:20260725
DTEND;VALUE=DATE:20260727
DTSTAMP:20260424T161149
CREATED:20260414T221333Z
LAST-MODIFIED:20260414T221333Z
UID:4569-1784952000-1785038399@dublingandia.com
SUMMARY:NOCHES GOLFAS " MR SANCHEZ "
DESCRIPTION:
URL:https://dublingandia.com/concierto/noches-golfas-mr-sanchez-3/
LOCATION:Pub Dublin Gandia\, Rioja 38\, Playa de Gandia\, Valencia\, 46730\, España
CATEGORIES:Concierto
ATTACH;FMTTYPE=image/jpeg:https://dublingandia.com/wp-content/uploads/2026/04/25JUL.jpeg
END:VEVENT
END:VCALENDAR