BEGIN:VCALENDAR
VERSION:2.0
PRODID:-//Dublin Gandia - ECPv6.15.20//NONSGML v1.0//EN
CALSCALE:GREGORIAN
METHOD:PUBLISH
X-WR-CALNAME:Dublin Gandia
X-ORIGINAL-URL:https://dublingandia.com
X-WR-CALDESC:Eventos para Dublin Gandia
REFRESH-INTERVAL;VALUE=DURATION:PT1H
X-Robots-Tag:noindex
X-PUBLISHED-TTL:PT1H
BEGIN:VTIMEZONE
TZID:Europe/Madrid
BEGIN:DAYLIGHT
TZOFFSETFROM:+0100
TZOFFSETTO:+0200
TZNAME:CEST
DTSTART:20240331T010000
END:DAYLIGHT
BEGIN:STANDARD
TZOFFSETFROM:+0200
TZOFFSETTO:+0100
TZNAME:CET
DTSTART:20241027T010000
END:STANDARD
BEGIN:DAYLIGHT
TZOFFSETFROM:+0100
TZOFFSETTO:+0200
TZNAME:CEST
DTSTART:20250330T010000
END:DAYLIGHT
BEGIN:STANDARD
TZOFFSETFROM:+0200
TZOFFSETTO:+0100
TZNAME:CET
DTSTART:20251026T010000
END:STANDARD
BEGIN:DAYLIGHT
TZOFFSETFROM:+0100
TZOFFSETTO:+0200
TZNAME:CEST
DTSTART:20260329T010000
END:DAYLIGHT
BEGIN:STANDARD
TZOFFSETFROM:+0200
TZOFFSETTO:+0100
TZNAME:CET
DTSTART:20261025T010000
END:STANDARD
END:VTIMEZONE
BEGIN:VEVENT
DTSTART;VALUE=DATE:20250103
DTEND;VALUE=DATE:20250105
DTSTAMP:20260425T163216
CREATED:20241008T114356Z
LAST-MODIFIED:20250103T170409Z
UID:3220-1735876800-1735963199@dublingandia.com
SUMMARY:NOCHES GOLFAS " ATALANTES " SUSPENDIDO POR CAUSAS  AJENAS AL DUBLÍN
DESCRIPTION:
URL:https://dublingandia.com/concierto/noches-golfas-atalantes/
LOCATION:Pub Dublin Gandia\, Rioja 38\, Playa de Gandia\, Valencia\, 46730\, España
CATEGORIES:Concierto
ATTACH;FMTTYPE=image/jpeg:https://dublingandia.com/wp-content/uploads/2024/10/03ENE-2.jpeg
END:VEVENT
BEGIN:VEVENT
DTSTART;TZID=Europe/Madrid:20250104T080000
DTEND;TZID=Europe/Madrid:20250104T233000
DTSTAMP:20260425T163216
CREATED:20241024T104036Z
LAST-MODIFIED:20241218T003815Z
UID:3329-1735977600-1736033400@dublingandia.com
SUMMARY:TARDEO SESSION " FURIOSA "
DESCRIPTION:https://dublingandia.com/wp-content/uploads/2024/10/WhatsApp-Video-2024-09-07-at-02.45.04.mp4
URL:https://dublingandia.com/concierto/tardeo-session-furiosa/
LOCATION:Pub Dublin Gandia\, Rioja 38\, Playa de Gandia\, Valencia\, 46730\, España
CATEGORIES:Concierto
ATTACH;FMTTYPE=image/jpeg:https://dublingandia.com/wp-content/uploads/2024/10/04ENE-1.jpeg
END:VEVENT
BEGIN:VEVENT
DTSTART;VALUE=DATE:20250105
DTEND;VALUE=DATE:20250107
DTSTAMP:20260425T163216
CREATED:20241209T134016Z
LAST-MODIFIED:20241209T134016Z
UID:3387-1736049600-1736135999@dublingandia.com
SUMMARY:VERMUT SESSION JAM "GRAHAM FOSTER BAND "
DESCRIPTION:
URL:https://dublingandia.com/concierto/vermut-session-jam-graham-foster-band-2/
LOCATION:Pub Dublin Gandia\, Rioja 38\, Playa de Gandia\, Valencia\, 46730\, España
CATEGORIES:Jam Session
ATTACH;FMTTYPE=image/jpeg:https://dublingandia.com/wp-content/uploads/2024/12/05ENE.jpeg
END:VEVENT
BEGIN:VEVENT
DTSTART;VALUE=DATE:20250110
DTEND;VALUE=DATE:20250112
DTSTAMP:20260425T163216
CREATED:20241010T205154Z
LAST-MODIFIED:20241021T232712Z
UID:3253-1736481600-1736567999@dublingandia.com
SUMMARY:NOCHES GOLFAS " MARJAL "
DESCRIPTION:
URL:https://dublingandia.com/concierto/noches-golfas-marjal-2/
LOCATION:Pub Dublin Gandia\, Rioja 38\, Playa de Gandia\, Valencia\, 46730\, España
CATEGORIES:Concierto
ATTACH;FMTTYPE=image/jpeg:https://dublingandia.com/wp-content/uploads/2024/10/10ENE-1.jpeg
END:VEVENT
BEGIN:VEVENT
DTSTART;VALUE=DATE:20250111
DTEND;VALUE=DATE:20250113
DTSTAMP:20260425T163216
CREATED:20241024T105910Z
LAST-MODIFIED:20241218T003909Z
UID:3333-1736568000-1736654399@dublingandia.com
SUMMARY:TARDEO SESSION " LA LA GARLO BAND "
DESCRIPTION:
URL:https://dublingandia.com/concierto/tardeo-session-la-la-garlo-band/
LOCATION:Pub Dublin Gandia\, Rioja 38\, Playa de Gandia\, Valencia\, 46730\, España
CATEGORIES:Concierto
ATTACH;FMTTYPE=image/jpeg:https://dublingandia.com/wp-content/uploads/2024/10/11ENE-1.jpeg
END:VEVENT
BEGIN:VEVENT
DTSTART;VALUE=DATE:20250112
DTEND;VALUE=DATE:20250114
DTSTAMP:20260425T163216
CREATED:20241017T182156Z
LAST-MODIFIED:20241021T232813Z
UID:3288-1736654400-1736740799@dublingandia.com
SUMMARY:VERMUT SESSION " HYLLARI'S ROCK AND SOUL "
DESCRIPTION:BANDA DE VERSIONES ROCK AND SOUL
URL:https://dublingandia.com/concierto/vermut-session-hyllaris-rock-and-soul/
LOCATION:Pub Dublin Gandia\, Rioja 38\, Playa de Gandia\, Valencia\, 46730\, España
CATEGORIES:Concierto
ATTACH;FMTTYPE=image/jpeg:https://dublingandia.com/wp-content/uploads/2024/10/12ENE-1.jpeg
END:VEVENT
BEGIN:VEVENT
DTSTART;VALUE=DATE:20250117
DTEND;VALUE=DATE:20250119
DTSTAMP:20260425T163216
CREATED:20241017T185441Z
LAST-MODIFIED:20241021T232855Z
UID:3291-1737086400-1737172799@dublingandia.com
SUMMARY:NOCHES GOLFAS " LA CUCHILLA"
DESCRIPTION:
URL:https://dublingandia.com/concierto/noches-golfas-la-cuchilla/
LOCATION:Pub Dublin Gandia\, Rioja 38\, Playa de Gandia\, Valencia\, 46730\, España
CATEGORIES:Concierto
ATTACH;FMTTYPE=image/jpeg:https://dublingandia.com/wp-content/uploads/2024/10/17ENE-1.jpeg
END:VEVENT
BEGIN:VEVENT
DTSTART;VALUE=DATE:20250118
DTEND;VALUE=DATE:20250120
DTSTAMP:20260425T163216
CREATED:20241010T183808Z
LAST-MODIFIED:20241218T003957Z
UID:3247-1737172800-1737259199@dublingandia.com
SUMMARY:TARDEO SESSION " HEARENDLESS "
DESCRIPTION:Hearendless es el nuevo proyecto musical en solitario de Kike Tarrasó\, alma mater de Girasoules.  Un abanico de referencias estilísticas que van desde el folk rock y el glam de los 70\, pasando por el gótico de los 80 hasta el indie noventero\, tratado con unas texturas guitarreras únicas dentro de un ambiente rítmico decididamente íntimo.  Hace unos años (2021) volvio a la escena con trabajos como Experience\, Crows\, Compromise\, Homemade Nirvana\, en el 2023 vio la luz Talking Alone\, Enchained y Chieftains y en el 2024 vuelve con Think with the Heart. Un puñado de buenas canciones esperando que las ames.
URL:https://dublingandia.com/concierto/tardeo-session-hearendless-2/
LOCATION:Pub Dublin Gandia\, Rioja 38\, Playa de Gandia\, Valencia\, 46730\, España
CATEGORIES:Concierto
ATTACH;FMTTYPE=image/jpeg:https://dublingandia.com/wp-content/uploads/2024/10/18ENE-3.jpeg
END:VEVENT
BEGIN:VEVENT
DTSTART;VALUE=DATE:20250119
DTEND;VALUE=DATE:20250121
DTSTAMP:20260425T163216
CREATED:20241010T211938Z
LAST-MODIFIED:20241021T233048Z
UID:3256-1737259200-1737345599@dublingandia.com
SUMMARY:VERMUT SESSION " NO NAME "
DESCRIPTION:
URL:https://dublingandia.com/concierto/vermut-session-no-name-6/
LOCATION:Pub Dublin Gandia\, Rioja 38\, Playa de Gandia\, Valencia\, 46730\, España
CATEGORIES:Concierto
ATTACH;FMTTYPE=image/jpeg:https://dublingandia.com/wp-content/uploads/2024/10/19ENE-1.jpeg
END:VEVENT
BEGIN:VEVENT
DTSTART;VALUE=DATE:20250124
DTEND;VALUE=DATE:20250126
DTSTAMP:20260425T163216
CREATED:20241018T001604Z
LAST-MODIFIED:20241021T224639Z
UID:3297-1737691200-1737777599@dublingandia.com
SUMMARY:NOCHES GOLFAS " NASTY  RUMORS " + " DEE CRACKS "
DESCRIPTION:DESDE AUSTRIA NOS VISITAN DOS BANDAS ENERGETICAS DE PUNK & ROCK AND ROLL
URL:https://dublingandia.com/concierto/noches-golfas-nasty-rumors-dee-cracks/
LOCATION:Pub Dublin Gandia\, Rioja 38\, Playa de Gandia\, Valencia\, 46730\, España
CATEGORIES:Concierto
ATTACH;FMTTYPE=image/jpeg:https://dublingandia.com/wp-content/uploads/2024/10/24ENE-2.jpeg
END:VEVENT
BEGIN:VEVENT
DTSTART;VALUE=DATE:20250125
DTEND;VALUE=DATE:20250127
DTSTAMP:20260425T163216
CREATED:20241018T001018Z
LAST-MODIFIED:20241218T004055Z
UID:3294-1737777600-1737863999@dublingandia.com
SUMMARY:TARDEO SESSION " ALAMO 51 "
DESCRIPTION:https://youtu.be/wFQfWv6UQ08?si=p_-igoT7V6vTIp22
URL:https://dublingandia.com/concierto/tardeo-session-alamo-51/
LOCATION:Pub Dublin Gandia\, Rioja 38\, Playa de Gandia\, Valencia\, 46730\, España
CATEGORIES:Concierto
ATTACH;FMTTYPE=image/jpeg:https://dublingandia.com/wp-content/uploads/2024/10/25ENE-2.jpeg
END:VEVENT
BEGIN:VEVENT
DTSTART;VALUE=DATE:20250126
DTEND;VALUE=DATE:20250128
DTSTAMP:20260425T163216
CREATED:20241016T133932Z
LAST-MODIFIED:20241211T125326Z
UID:3276-1737864000-1737950399@dublingandia.com
SUMMARY:VERMUT SESSION " BULEVAR ROCK BAND "
DESCRIPTION:BULEVAR ROCK BAND\nEs una banda formada por 4 músicos:\nERIC CHAVANE- VOZ Y GUITARRA\nPAU VIGUER- TECLADOS Y COROS\nXAVI ALAMÁN- BAJO ELÉCTRICO\nMANOLO CRESPO- BATERÍA Y COROS\nBulevar rock band es una banda creada en 2023 en Valencia y compuesta por\nmúsicos de mucha experiencia en la música en directo. Temas esenciales en la\nhistoria del Rock de grupos como U2\, Creedence \, Guns’n Roses\, Rolling Stones\, Elvis Presley\, The Cure\,\nRadiohead\, etc.\nUn grupo con mucha energía en cada tema. El resultado es que hay cada vez más\npúblico encantado con sus conciertos.\nInstagram… @BulevarRockBand
URL:https://dublingandia.com/concierto/vermut-session-rumbasurf/
LOCATION:Pub Dublin Gandia\, Rioja 38\, Playa de Gandia\, Valencia\, 46730\, España
CATEGORIES:Concierto
ATTACH;FMTTYPE=image/jpeg:https://dublingandia.com/wp-content/uploads/2024/10/26ENE-2.jpeg
END:VEVENT
BEGIN:VEVENT
DTSTART;VALUE=DATE:20250131
DTEND;VALUE=DATE:20250202
DTSTAMP:20260425T163216
CREATED:20241016T061955Z
LAST-MODIFIED:20241021T233252Z
UID:3273-1738296000-1738382399@dublingandia.com
SUMMARY:NOCHES GOLFAS " LOS BELUSHI "
DESCRIPTION:
URL:https://dublingandia.com/concierto/noches-golfas-los-belushi/
LOCATION:Pub Dublin Gandia\, Rioja 38\, Playa de Gandia\, Valencia\, 46730\, España
CATEGORIES:Concierto
ATTACH;FMTTYPE=image/jpeg:https://dublingandia.com/wp-content/uploads/2024/10/31ENE-1.jpeg
END:VEVENT
END:VCALENDAR