BEGIN:VCALENDAR
VERSION:2.0
PRODID:-//Dublin Gandia - ECPv6.15.20//NONSGML v1.0//EN
CALSCALE:GREGORIAN
METHOD:PUBLISH
X-WR-CALNAME:Dublin Gandia
X-ORIGINAL-URL:https://dublingandia.com
X-WR-CALDESC:Eventos para Dublin Gandia
REFRESH-INTERVAL;VALUE=DURATION:PT1H
X-Robots-Tag:noindex
X-PUBLISHED-TTL:PT1H
BEGIN:VTIMEZONE
TZID:Europe/Madrid
BEGIN:DAYLIGHT
TZOFFSETFROM:+0100
TZOFFSETTO:+0200
TZNAME:CEST
DTSTART:20240331T010000
END:DAYLIGHT
BEGIN:STANDARD
TZOFFSETFROM:+0200
TZOFFSETTO:+0100
TZNAME:CET
DTSTART:20241027T010000
END:STANDARD
BEGIN:DAYLIGHT
TZOFFSETFROM:+0100
TZOFFSETTO:+0200
TZNAME:CEST
DTSTART:20250330T010000
END:DAYLIGHT
BEGIN:STANDARD
TZOFFSETFROM:+0200
TZOFFSETTO:+0100
TZNAME:CET
DTSTART:20251026T010000
END:STANDARD
BEGIN:DAYLIGHT
TZOFFSETFROM:+0100
TZOFFSETTO:+0200
TZNAME:CEST
DTSTART:20260329T010000
END:DAYLIGHT
BEGIN:STANDARD
TZOFFSETFROM:+0200
TZOFFSETTO:+0100
TZNAME:CET
DTSTART:20261025T010000
END:STANDARD
END:VTIMEZONE
BEGIN:VEVENT
DTSTART;VALUE=DATE:20250301
DTEND;VALUE=DATE:20250303
DTSTAMP:20260425T132109
CREATED:20240925T152117Z
LAST-MODIFIED:20250104T025559Z
UID:3157-1740801600-1740887999@dublingandia.com
SUMMARY:TARDEO SESSION "WAYWARD SAINTS " FROM CANADA
DESCRIPTION:Si lo tuyo son bandas como The Rolling Stones\, Humble Pie\, Janis Joplin\, Allman Brothers\, The Faces\, o más recientes como Blues Pills\, Rival Sons\, Siena Root o Spiders\, no debes perderte en directo a esta sensacional banda. Apunta tu fecha y prepárate para disfrutar de una buena descarga de rock & roll. Keep on rockin’!!! \n \n 
URL:https://dublingandia.com/concierto/tardeo-session-wayward-saints-from-canada/
LOCATION:Pub Dublin Gandia\, Rioja 38\, Playa de Gandia\, Valencia\, 46730\, España
CATEGORIES:Concierto
ATTACH;FMTTYPE=image/jpeg:https://dublingandia.com/wp-content/uploads/2024/09/01MAR-1.jpeg
END:VEVENT
BEGIN:VEVENT
DTSTART;VALUE=DATE:20250302
DTEND;VALUE=DATE:20250304
DTSTAMP:20260425T132109
CREATED:20250224T183832Z
LAST-MODIFIED:20250224T183832Z
UID:3590-1740888000-1740974399@dublingandia.com
SUMMARY:VERMUT JAM SESSION "GRAHAM FOSTER BAND "
DESCRIPTION:
URL:https://dublingandia.com/concierto/vermut-jam-session-graham-foster-band-9/
LOCATION:Pub Dublin Gandia\, Rioja 38\, Playa de Gandia\, Valencia\, 46730\, España
CATEGORIES:Jam Session
ATTACH;FMTTYPE=image/jpeg:https://dublingandia.com/wp-content/uploads/2025/02/02MAR.jpeg
END:VEVENT
BEGIN:VEVENT
DTSTART;VALUE=DATE:20250307
DTEND;VALUE=DATE:20250309
DTSTAMP:20260425T132109
CREATED:20250113T114255Z
LAST-MODIFIED:20250113T114255Z
UID:3463-1741320000-1741406399@dublingandia.com
SUMMARY:NOCHES GOLFAS " GANZER "
DESCRIPTION:
URL:https://dublingandia.com/concierto/noches-golfas-ganzer/
LOCATION:Pub Dublin Gandia\, Rioja 38\, Playa de Gandia\, Valencia\, 46730\, España
CATEGORIES:Concierto
ATTACH;FMTTYPE=image/jpeg:https://dublingandia.com/wp-content/uploads/2025/01/07MAR.jpeg
END:VEVENT
BEGIN:VEVENT
DTSTART;VALUE=DATE:20250308
DTEND;VALUE=DATE:20250310
DTSTAMP:20260425T132109
CREATED:20250113T122555Z
LAST-MODIFIED:20250113T133015Z
UID:3469-1741406400-1741492799@dublingandia.com
SUMMARY:TARDEO SESSION " RODHER "
DESCRIPTION:
URL:https://dublingandia.com/concierto/tardeo-session-rodher/
LOCATION:Pub Dublin Gandia\, Rioja 38\, Playa de Gandia\, Valencia\, 46730\, España
CATEGORIES:Concierto
ATTACH;FMTTYPE=image/jpeg:https://dublingandia.com/wp-content/uploads/2025/01/08MAR-1.jpeg
END:VEVENT
BEGIN:VEVENT
DTSTART;VALUE=DATE:20250309
DTEND;VALUE=DATE:20250311
DTSTAMP:20260425T132109
CREATED:20250113T120218Z
LAST-MODIFIED:20250113T120218Z
UID:3466-1741492800-1741579199@dublingandia.com
SUMMARY:VERMUT SESSION " SOLO STONES "
DESCRIPTION:UN HOMENAJE A LOS STONES
URL:https://dublingandia.com/concierto/vermut-session-solo-stones-7/
LOCATION:Pub Dublin Gandia\, Rioja 38\, Playa de Gandia\, Valencia\, 46730\, España
CATEGORIES:Concierto
ATTACH;FMTTYPE=image/jpeg:https://dublingandia.com/wp-content/uploads/2025/01/09MAR.jpeg
END:VEVENT
BEGIN:VEVENT
DTSTART;VALUE=DATE:20250314
DTEND;VALUE=DATE:20250316
DTSTAMP:20260425T132109
CREATED:20250113T133900Z
LAST-MODIFIED:20250312T122152Z
UID:3475-1741924800-1742011199@dublingandia.com
SUMMARY:NOCHES GOLFAS "  SARA GEE N RAMBLIN MATT   "
DESCRIPTION:
URL:https://dublingandia.com/concierto/noches-golfas-nino-muneco/
LOCATION:Pub Dublin Gandia\, Rioja 38\, Playa de Gandia\, Valencia\, 46730\, España
CATEGORIES:Concierto
ATTACH;FMTTYPE=image/jpeg:https://dublingandia.com/wp-content/uploads/2025/01/14MAR-1.jpeg
END:VEVENT
BEGIN:VEVENT
DTSTART;VALUE=DATE:20250315
DTEND;VALUE=DATE:20250317
DTSTAMP:20260425T132109
CREATED:20250113T175220Z
LAST-MODIFIED:20250113T175221Z
UID:3479-1742011200-1742097599@dublingandia.com
SUMMARY:TARDEO SESSION " GOTFIRE "
DESCRIPTION:
URL:https://dublingandia.com/concierto/tardeo-session-gotfire-2/
LOCATION:Pub Dublin Gandia\, Rioja 38\, Playa de Gandia\, Valencia\, 46730\, España
CATEGORIES:Concierto
ATTACH;FMTTYPE=image/jpeg:https://dublingandia.com/wp-content/uploads/2025/01/15MAR.jpeg
END:VEVENT
BEGIN:VEVENT
DTSTART;VALUE=DATE:20250316
DTEND;VALUE=DATE:20250318
DTSTAMP:20260425T132109
CREATED:20250113T231456Z
LAST-MODIFIED:20250113T231542Z
UID:3496-1742097600-1742183999@dublingandia.com
SUMMARY:VERMUT SESSION " SECOND COMING "
DESCRIPTION:HOMENAJE A THE POLICE Y OTROS HITS BRITIHS DE LOS 80/90S
URL:https://dublingandia.com/concierto/vermut-session-second-coming-2/
LOCATION:Pub Dublin Gandia\, Rioja 38\, Playa de Gandia\, Valencia\, 46730\, España
CATEGORIES:Concierto
ATTACH;FMTTYPE=image/jpeg:https://dublingandia.com/wp-content/uploads/2025/01/16MAR.jpeg
END:VEVENT
BEGIN:VEVENT
DTSTART;VALUE=DATE:20250321
DTEND;VALUE=DATE:20250323
DTSTAMP:20260425T132109
CREATED:20250113T190520Z
LAST-MODIFIED:20250130T003937Z
UID:3483-1742529600-1742615999@dublingandia.com
SUMMARY:NOCHES GOLFAS " GOLDEN GRAHAMS "
DESCRIPTION:
URL:https://dublingandia.com/concierto/noches-golfas-golden-grahams/
LOCATION:Pub Dublin Gandia\, Rioja 38\, Playa de Gandia\, Valencia\, 46730\, España
CATEGORIES:Concierto
ATTACH;FMTTYPE=image/jpeg:https://dublingandia.com/wp-content/uploads/2025/01/21MAR.jpeg
END:VEVENT
BEGIN:VEVENT
DTSTART;VALUE=DATE:20250322
DTEND;VALUE=DATE:20250324
DTSTAMP:20260425T132109
CREATED:20250113T193828Z
LAST-MODIFIED:20250113T193828Z
UID:3487-1742616000-1742702399@dublingandia.com
SUMMARY:TARDEO SESSION " EYELET "
DESCRIPTION:
URL:https://dublingandia.com/concierto/tardeo-session-eyelet/
LOCATION:Pub Dublin Gandia\, Rioja 38\, Playa de Gandia\, Valencia\, 46730\, España
CATEGORIES:Concierto
ATTACH;FMTTYPE=image/jpeg:https://dublingandia.com/wp-content/uploads/2025/01/22MAR.jpeg
END:VEVENT
BEGIN:VEVENT
DTSTART;VALUE=DATE:20250323
DTEND;VALUE=DATE:20250325
DTSTAMP:20260425T132109
CREATED:20250113T200301Z
LAST-MODIFIED:20250113T200302Z
UID:3492-1742702400-1742788799@dublingandia.com
SUMMARY:VERMUT SESSION "BOOM BOOM "
DESCRIPTION:
URL:https://dublingandia.com/concierto/vermut-session-boom-boom-2/
LOCATION:Pub Dublin Gandia\, Rioja 38\, Playa de Gandia\, Valencia\, 46730\, España
CATEGORIES:Concierto
ATTACH;FMTTYPE=image/jpeg:https://dublingandia.com/wp-content/uploads/2025/01/23mar.jpeg
END:VEVENT
BEGIN:VEVENT
DTSTART;VALUE=DATE:20250328
DTEND;VALUE=DATE:20250330
DTSTAMP:20260425T132109
CREATED:20250113T234308Z
LAST-MODIFIED:20250113T234309Z
UID:3500-1743134400-1743220799@dublingandia.com
SUMMARY:NOCHES GOLFAS " FUZZY CLOUDS "
DESCRIPTION:
URL:https://dublingandia.com/concierto/noches-golfas-fuzzy-clouds-2/
LOCATION:Pub Dublin Gandia\, Rioja 38\, Playa de Gandia\, Valencia\, 46730\, España
CATEGORIES:Concierto
ATTACH;FMTTYPE=image/jpeg:https://dublingandia.com/wp-content/uploads/2025/01/28MAR.jpg
END:VEVENT
BEGIN:VEVENT
DTSTART;TZID=Europe/Madrid:20250329T080000
DTEND;TZID=Europe/Madrid:20250329T233000
DTSTAMP:20260425T132109
CREATED:20250114T000712Z
LAST-MODIFIED:20250115T112059Z
UID:3503-1743235200-1743291000@dublingandia.com
SUMMARY:TARDEO SESSION " TROFEO "
DESCRIPTION:
URL:https://dublingandia.com/concierto/tardeo-session-trofeo/
LOCATION:Pub Dublin Gandia\, Rioja 38\, Playa de Gandia\, Valencia\, 46730\, España
CATEGORIES:Concierto
ATTACH;FMTTYPE=image/jpeg:https://dublingandia.com/wp-content/uploads/2025/01/29MAR-1-scaled.jpg
END:VEVENT
BEGIN:VEVENT
DTSTART;VALUE=DATE:20250330
DTEND;VALUE=DATE:20250401
DTSTAMP:20260425T132109
CREATED:20250114T005414Z
LAST-MODIFIED:20250114T005414Z
UID:3507-1743307200-1743393599@dublingandia.com
SUMMARY:VERMUT SESSSION " BACKINTRACK "
DESCRIPTION:GRUPO DE VERSIONES INTERNACIONALES Y NACIONALES
URL:https://dublingandia.com/concierto/vermut-sesssion-backintrack/
LOCATION:Pub Dublin Gandia\, Rioja 38\, Playa de Gandia\, Valencia\, 46730\, España
CATEGORIES:Concierto
ATTACH;FMTTYPE=image/jpeg:https://dublingandia.com/wp-content/uploads/2025/01/30MAR.jpeg
END:VEVENT
END:VCALENDAR