BEGIN:VCALENDAR
VERSION:2.0
PRODID:-//Dublin Gandia - ECPv6.15.20//NONSGML v1.0//EN
CALSCALE:GREGORIAN
METHOD:PUBLISH
X-ORIGINAL-URL:https://dublingandia.com
X-WR-CALDESC:Eventos para Dublin Gandia
REFRESH-INTERVAL;VALUE=DURATION:PT1H
X-Robots-Tag:noindex
X-PUBLISHED-TTL:PT1H
BEGIN:VTIMEZONE
TZID:Europe/Madrid
BEGIN:DAYLIGHT
TZOFFSETFROM:+0100
TZOFFSETTO:+0200
TZNAME:CEST
DTSTART:20240331T010000
END:DAYLIGHT
BEGIN:STANDARD
TZOFFSETFROM:+0200
TZOFFSETTO:+0100
TZNAME:CET
DTSTART:20241027T010000
END:STANDARD
BEGIN:DAYLIGHT
TZOFFSETFROM:+0100
TZOFFSETTO:+0200
TZNAME:CEST
DTSTART:20250330T010000
END:DAYLIGHT
BEGIN:STANDARD
TZOFFSETFROM:+0200
TZOFFSETTO:+0100
TZNAME:CET
DTSTART:20251026T010000
END:STANDARD
BEGIN:DAYLIGHT
TZOFFSETFROM:+0100
TZOFFSETTO:+0200
TZNAME:CEST
DTSTART:20260329T010000
END:DAYLIGHT
BEGIN:STANDARD
TZOFFSETFROM:+0200
TZOFFSETTO:+0100
TZNAME:CET
DTSTART:20261025T010000
END:STANDARD
END:VTIMEZONE
BEGIN:VEVENT
DTSTART;VALUE=DATE:20250801
DTEND;VALUE=DATE:20250803
DTSTAMP:20260425T061126
CREATED:20250522T100415Z
LAST-MODIFIED:20250703T212845Z
UID:3742-1754020800-1754107199@dublingandia.com
SUMMARY:NOCHES GOLFAS "CABALLO TRIPODE "
DESCRIPTION:
URL:https://dublingandia.com/concierto/noches-golfas-bordestones-3/
LOCATION:Pub Dublin Gandia\, Rioja 38\, Playa de Gandia\, Valencia\, 46730\, España
CATEGORIES:Concierto
ATTACH;FMTTYPE=image/jpeg:https://dublingandia.com/wp-content/uploads/2025/05/01AGO-1.jpeg
END:VEVENT
BEGIN:VEVENT
DTSTART;VALUE=DATE:20250802
DTEND;VALUE=DATE:20250804
DTSTAMP:20260425T061126
CREATED:20250611T225217Z
LAST-MODIFIED:20250611T230323Z
UID:3787-1754107200-1754193599@dublingandia.com
SUMMARY:NOCHES GOLFAS " UKELELE ZOMBIES "
DESCRIPTION:
URL:https://dublingandia.com/concierto/noches-golfas-ukelele-zombies/
LOCATION:Pub Dublin Gandia\, Rioja 38\, Playa de Gandia\, Valencia\, 46730\, España
CATEGORIES:Concierto
ATTACH;FMTTYPE=image/jpeg:https://dublingandia.com/wp-content/uploads/2025/06/02AGO.jpeg
END:VEVENT
BEGIN:VEVENT
DTSTART;VALUE=DATE:20250803
DTEND;VALUE=DATE:20250805
DTSTAMP:20260425T061126
CREATED:20250615T234029Z
LAST-MODIFIED:20250615T234029Z
UID:3822-1754193600-1754279999@dublingandia.com
SUMMARY:VERMUT JAM SESSION  " GRAHAM FOSTER BAND "
DESCRIPTION:
URL:https://dublingandia.com/concierto/vermut-jam-session-graham-foster-band-11/
LOCATION:Pub Dublin Gandia\, Rioja 38\, Playa de Gandia\, Valencia\, 46730\, España
CATEGORIES:Jam Session
ATTACH;FMTTYPE=image/jpeg:https://dublingandia.com/wp-content/uploads/2025/06/03AGO.jpeg
END:VEVENT
BEGIN:VEVENT
DTSTART;VALUE=DATE:20250808
DTEND;VALUE=DATE:20250810
DTSTAMP:20260425T061126
CREATED:20250603T185657Z
LAST-MODIFIED:20250603T185657Z
UID:3755-1754625600-1754711999@dublingandia.com
SUMMARY:NOCHES GOLFAS " LAUREN ARCHER EXPERIENCE"
DESCRIPTION:
URL:https://dublingandia.com/concierto/noches-golfas-lauren-archer-experience/
LOCATION:Pub Dublin Gandia\, Rioja 38\, Playa de Gandia\, Valencia\, 46730\, España
CATEGORIES:Concierto
ATTACH;FMTTYPE=image/jpeg:https://dublingandia.com/wp-content/uploads/2025/06/08AGO.jpeg
END:VEVENT
BEGIN:VEVENT
DTSTART;VALUE=DATE:20250809
DTEND;VALUE=DATE:20250811
DTSTAMP:20260425T061126
CREATED:20250611T230543Z
LAST-MODIFIED:20250611T230544Z
UID:3793-1754712000-1754798399@dublingandia.com
SUMMARY:NOCHES GOLFAS " JOHNNY B. ZERO "
DESCRIPTION:
URL:https://dublingandia.com/concierto/noches-golfas-johnny-b-zero-2/
LOCATION:Pub Dublin Gandia\, Rioja 38\, Playa de Gandia\, Valencia\, 46730\, España
CATEGORIES:Concierto
ATTACH;FMTTYPE=image/jpeg:https://dublingandia.com/wp-content/uploads/2025/06/09AGO.jpeg
END:VEVENT
BEGIN:VEVENT
DTSTART;VALUE=DATE:20250810
DTEND;VALUE=DATE:20250812
DTSTAMP:20260425T061126
CREATED:20250615T221343Z
LAST-MODIFIED:20250710T075810Z
UID:3813-1754798400-1754884799@dublingandia.com
SUMMARY:VERMUT SESSION " BAND-IDOS "
DESCRIPTION:BANDA DE COVERS NACIONAL
URL:https://dublingandia.com/concierto/vermut-session-back-in-track-2/
LOCATION:Pub Dublin Gandia\, Rioja 38\, Playa de Gandia\, Valencia\, 46730\, España
CATEGORIES:Concierto
ATTACH;FMTTYPE=image/jpeg:https://dublingandia.com/wp-content/uploads/2025/06/10AGO-1.jpeg
END:VEVENT
BEGIN:VEVENT
DTSTART;VALUE=DATE:20250815
DTEND;VALUE=DATE:20250817
DTSTAMP:20260425T061126
CREATED:20250615T233741Z
LAST-MODIFIED:20250616T080647Z
UID:3819-1755230400-1755316799@dublingandia.com
SUMMARY:NOCHES GOLFAS "TURBODILDOS "
DESCRIPTION:
URL:https://dublingandia.com/concierto/noches-golfas-turbodildos/
LOCATION:Pub Dublin Gandia\, Rioja 38\, Playa de Gandia\, Valencia\, 46730\, España
CATEGORIES:Concierto
ATTACH;FMTTYPE=image/jpeg:https://dublingandia.com/wp-content/uploads/2025/06/15AGOS.jpeg
END:VEVENT
BEGIN:VEVENT
DTSTART;VALUE=DATE:20250816
DTEND;VALUE=DATE:20250818
DTSTAMP:20260425T061126
CREATED:20250615T233539Z
LAST-MODIFIED:20250616T080535Z
UID:3816-1755316800-1755403199@dublingandia.com
SUMMARY:NOCHES GOLFAS " LOS MONTOYA "
DESCRIPTION:
URL:https://dublingandia.com/concierto/noches-golfas-los-montoya-2/
LOCATION:Pub Dublin Gandia\, Rioja 38\, Playa de Gandia\, Valencia\, 46730\, España
CATEGORIES:Concierto
ATTACH;FMTTYPE=image/jpeg:https://dublingandia.com/wp-content/uploads/2025/06/16AGOS.jpeg
END:VEVENT
BEGIN:VEVENT
DTSTART;VALUE=DATE:20250817
DTEND;VALUE=DATE:20250819
DTSTAMP:20260425T061126
CREATED:20250615T234757Z
LAST-MODIFIED:20250711T122613Z
UID:3828-1755403200-1755489599@dublingandia.com
SUMMARY:VERMUT SESSION " SOUL DEALERS "
DESCRIPTION:BANDA DE VERSIONES DISCO 70/80S
URL:https://dublingandia.com/concierto/vermut-session-soul-dealers-2/
LOCATION:Pub Dublin Gandia\, Rioja 38\, Playa de Gandia\, Valencia\, 46730\, España
CATEGORIES:Concierto
ATTACH;FMTTYPE=image/jpeg:https://dublingandia.com/wp-content/uploads/2025/06/17AGO-1.jpeg
END:VEVENT
BEGIN:VEVENT
DTSTART;VALUE=DATE:20250822
DTEND;VALUE=DATE:20250824
DTSTAMP:20260425T061126
CREATED:20250618T233224Z
LAST-MODIFIED:20250618T233225Z
UID:3853-1755835200-1755921599@dublingandia.com
SUMMARY:NOCHES GOLFAS " DE LA NADA "
DESCRIPTION:
URL:https://dublingandia.com/concierto/noches-golfas-de-la-nada-2/
LOCATION:Pub Dublin Gandia\, Rioja 38\, Playa de Gandia\, Valencia\, 46730\, España
CATEGORIES:Concierto
ATTACH;FMTTYPE=image/jpeg:https://dublingandia.com/wp-content/uploads/2025/06/22AGO.jpeg
END:VEVENT
BEGIN:VEVENT
DTSTART;TZID=Europe/Madrid:20250823T080000
DTEND;TZID=Europe/Madrid:20250823T233000
DTSTAMP:20260425T061126
CREATED:20250612T102819Z
LAST-MODIFIED:20250612T102839Z
UID:3801-1755936000-1755991800@dublingandia.com
SUMMARY:NOCHES GOLFAS " LUCKY STRIKEWALKER "
DESCRIPTION:
URL:https://dublingandia.com/concierto/noches-golfas-lucky-strikewalker/
LOCATION:Pub Dublin Gandia\, Rioja 38\, Playa de Gandia\, Valencia\, 46730\, España
CATEGORIES:Concierto
ATTACH;FMTTYPE=image/jpeg:https://dublingandia.com/wp-content/uploads/2025/06/23AGO.jpeg
END:VEVENT
BEGIN:VEVENT
DTSTART;TZID=Europe/Madrid:20250824T080000
DTEND;TZID=Europe/Madrid:20250824T170000
DTSTAMP:20260425T061126
CREATED:20250616T083511Z
LAST-MODIFIED:20250616T090524Z
UID:3845-1756022400-1756054800@dublingandia.com
SUMMARY:VERMUT SESSION " GYPSYTONES ROCKETZ "
DESCRIPTION:BANDA DE VERSIONES INTERNACIONAL
URL:https://dublingandia.com/concierto/vermut-session-gypsytones-rocketz/
LOCATION:Pub Dublin Gandia\, Rioja 38\, Playa de Gandia\, Valencia\, 46730\, España
CATEGORIES:Concierto
ATTACH;FMTTYPE=image/jpeg:https://dublingandia.com/wp-content/uploads/2025/06/24AGO-1.jpeg
END:VEVENT
BEGIN:VEVENT
DTSTART;VALUE=DATE:20250829
DTEND;VALUE=DATE:20250831
DTSTAMP:20260425T061126
CREATED:20250612T104411Z
LAST-MODIFIED:20250612T104411Z
UID:3804-1756440000-1756526399@dublingandia.com
SUMMARY:NOCHES GOLFAS " SOUL BANDIDOS "
DESCRIPTION:
URL:https://dublingandia.com/concierto/noches-golfas-soul-bandidos/
LOCATION:Pub Dublin Gandia\, Rioja 38\, Playa de Gandia\, Valencia\, 46730\, España
CATEGORIES:Concierto
ATTACH;FMTTYPE=image/jpeg:https://dublingandia.com/wp-content/uploads/2025/06/29AGO.jpeg
END:VEVENT
BEGIN:VEVENT
DTSTART;VALUE=DATE:20250830
DTEND;VALUE=DATE:20250901
DTSTAMP:20260425T061126
CREATED:20250616T000158Z
LAST-MODIFIED:20250616T000158Z
UID:3831-1756526400-1756612799@dublingandia.com
SUMMARY:NOCHES GOLFAS " LOS LARGOS "
DESCRIPTION:
URL:https://dublingandia.com/concierto/noches-golfas-los-largos-3/
LOCATION:Pub Dublin Gandia\, Rioja 38\, Playa de Gandia\, Valencia\, 46730\, España
CATEGORIES:Concierto
ATTACH;FMTTYPE=image/jpeg:https://dublingandia.com/wp-content/uploads/2025/06/30AGO.jpeg
END:VEVENT
BEGIN:VEVENT
DTSTART;VALUE=DATE:20250831
DTEND;VALUE=DATE:20250902
DTSTAMP:20260425T061126
CREATED:20250616T000428Z
LAST-MODIFIED:20250616T000429Z
UID:3834-1756612800-1756699199@dublingandia.com
SUMMARY:VERMUT SESSION " CANAL 69 "
DESCRIPTION:BANDA DE VERSIONES DE POP ROCK ESPAÑOL
URL:https://dublingandia.com/concierto/vermut-session-canal-69-2/
LOCATION:Pub Dublin Gandia\, Rioja 38\, Playa de Gandia\, Valencia\, 46730\, España
CATEGORIES:Concierto
ATTACH;FMTTYPE=image/jpeg:https://dublingandia.com/wp-content/uploads/2025/06/31AGO.jpeg
END:VEVENT
END:VCALENDAR