BEGIN:VCALENDAR
VERSION:2.0
PRODID:-//Dublin Gandia - ECPv6.15.20//NONSGML v1.0//EN
CALSCALE:GREGORIAN
METHOD:PUBLISH
X-WR-CALNAME:Dublin Gandia
X-ORIGINAL-URL:https://dublingandia.com
X-WR-CALDESC:Eventos para Dublin Gandia
REFRESH-INTERVAL;VALUE=DURATION:PT1H
X-Robots-Tag:noindex
X-PUBLISHED-TTL:PT1H
BEGIN:VTIMEZONE
TZID:Europe/Madrid
BEGIN:DAYLIGHT
TZOFFSETFROM:+0100
TZOFFSETTO:+0200
TZNAME:CEST
DTSTART:20240331T010000
END:DAYLIGHT
BEGIN:STANDARD
TZOFFSETFROM:+0200
TZOFFSETTO:+0100
TZNAME:CET
DTSTART:20241027T010000
END:STANDARD
BEGIN:DAYLIGHT
TZOFFSETFROM:+0100
TZOFFSETTO:+0200
TZNAME:CEST
DTSTART:20250330T010000
END:DAYLIGHT
BEGIN:STANDARD
TZOFFSETFROM:+0200
TZOFFSETTO:+0100
TZNAME:CET
DTSTART:20251026T010000
END:STANDARD
BEGIN:DAYLIGHT
TZOFFSETFROM:+0100
TZOFFSETTO:+0200
TZNAME:CEST
DTSTART:20260329T010000
END:DAYLIGHT
BEGIN:STANDARD
TZOFFSETFROM:+0200
TZOFFSETTO:+0100
TZNAME:CET
DTSTART:20261025T010000
END:STANDARD
END:VTIMEZONE
BEGIN:VEVENT
DTSTART;VALUE=DATE:20250905
DTEND;VALUE=DATE:20250907
DTSTAMP:20260425T044217
CREATED:20250711T111257Z
LAST-MODIFIED:20250711T111919Z
UID:3884-1757044800-1757131199@dublingandia.com
SUMMARY:NOCHES GOLFAS " INDY TUMBITA & LOS VOODOO BANDITS"
DESCRIPTION:
URL:https://dublingandia.com/concierto/noches-golfas-indy-tumbita-los-voodoo-bandits/
LOCATION:Pub Dublin Gandia\, Rioja 38\, Playa de Gandia\, Valencia\, 46730\, España
CATEGORIES:Concierto
ATTACH;FMTTYPE=image/jpeg:https://dublingandia.com/wp-content/uploads/2025/07/05SEP.jpeg
END:VEVENT
BEGIN:VEVENT
DTSTART;VALUE=DATE:20250906
DTEND;VALUE=DATE:20250908
DTSTAMP:20260425T044217
CREATED:20250502T012755Z
LAST-MODIFIED:20250521T111751Z
UID:3680-1757131200-1757217599@dublingandia.com
SUMMARY:NOCHES DE BLUES "KEITH DUNN"
DESCRIPTION:  \nCOMPRAS ENTRADAS
URL:https://dublingandia.com/concierto/noches-de-blues-keith-dunn/
LOCATION:Pub Dublin Gandia\, Rioja 38\, Playa de Gandia\, Valencia\, 46730\, España
CATEGORIES:Concierto
ATTACH;FMTTYPE=image/jpeg:https://dublingandia.com/wp-content/uploads/2025/05/KEITHImage-2025-04-25-at-21.25.15.jpeg
END:VEVENT
BEGIN:VEVENT
DTSTART;VALUE=DATE:20250907
DTEND;VALUE=DATE:20250909
DTSTAMP:20260425T044217
CREATED:20250711T112545Z
LAST-MODIFIED:20250711T112545Z
UID:3888-1757217600-1757303999@dublingandia.com
SUMMARY:VERMUT JAM SESSION "GRAHAM FOSTER BAND"
DESCRIPTION:
URL:https://dublingandia.com/concierto/vermut-jam-session-graham-foster-band-13/
LOCATION:Pub Dublin Gandia\, Rioja 38\, Playa de Gandia\, Valencia\, 46730\, España
CATEGORIES:Jam Session
ATTACH;FMTTYPE=image/jpeg:https://dublingandia.com/wp-content/uploads/2025/07/07SEP.jpeg
END:VEVENT
BEGIN:VEVENT
DTSTART;VALUE=DATE:20250912
DTEND;VALUE=DATE:20250914
DTSTAMP:20260425T044217
CREATED:20250720T201004Z
LAST-MODIFIED:20250720T201004Z
UID:3970-1757649600-1757735999@dublingandia.com
SUMMARY:NOCHES GOLFAS " DR. TRITON " FROM MEXICO DF
DESCRIPTION:
URL:https://dublingandia.com/concierto/noches-golfas-dr-triton-from-mexico-df/
LOCATION:Pub Dublin Gandia\, Rioja 38\, Playa de Gandia\, Valencia\, 46730\, España
CATEGORIES:Concierto
ATTACH;FMTTYPE=image/jpeg:https://dublingandia.com/wp-content/uploads/2025/07/12sept.jpeg
END:VEVENT
BEGIN:VEVENT
DTSTART;VALUE=DATE:20250913
DTEND;VALUE=DATE:20250915
DTSTAMP:20260425T044217
CREATED:20250715T080346Z
LAST-MODIFIED:20250715T080447Z
UID:3930-1757736000-1757822399@dublingandia.com
SUMMARY:NOCHES GOLFAS " THE RED DUCKS "
DESCRIPTION:  \nFROM TOLEDO
URL:https://dublingandia.com/concierto/noches-golfas-the-red-ducks-desde-toledo/
LOCATION:Pub Dublin Gandia\, Rioja 38\, Playa de Gandia\, Valencia\, 46730\, España
CATEGORIES:Concierto
ATTACH;FMTTYPE=image/jpeg:https://dublingandia.com/wp-content/uploads/2025/07/13SEP.jpeg
END:VEVENT
BEGIN:VEVENT
DTSTART;VALUE=DATE:20250914
DTEND;VALUE=DATE:20250916
DTSTAMP:20260425T044217
CREATED:20250715T081551Z
LAST-MODIFIED:20250715T081552Z
UID:3934-1757822400-1757908799@dublingandia.com
SUMMARY:VERMUT SESSION " LOS ZONA"
DESCRIPTION:FROM TOLEDO \nBANDA DE VERSIONES DE LOQUILLO \, MERMELADA\, LEÑO\, BURNING ETC
URL:https://dublingandia.com/concierto/vermut-session-los-zona/
LOCATION:Pub Dublin Gandia\, Rioja 38\, Playa de Gandia\, Valencia\, 46730\, España
CATEGORIES:Concierto
ATTACH;FMTTYPE=image/jpeg:https://dublingandia.com/wp-content/uploads/2025/07/14SEP.jpeg
END:VEVENT
BEGIN:VEVENT
DTSTART;VALUE=DATE:20250919
DTEND;VALUE=DATE:20250921
DTSTAMP:20260425T044217
CREATED:20250711T122916Z
LAST-MODIFIED:20250711T123044Z
UID:3902-1758254400-1758340799@dublingandia.com
SUMMARY:NOCHES GOLFAS " SUNFAIA"
DESCRIPTION:
URL:https://dublingandia.com/concierto/noches-golfas-sunfaia/
LOCATION:Pub Dublin Gandia\, Rioja 38\, Playa de Gandia\, Valencia\, 46730\, España
CATEGORIES:Concierto
ATTACH;FMTTYPE=image/jpeg:https://dublingandia.com/wp-content/uploads/2025/07/19SEP.jpeg
END:VEVENT
BEGIN:VEVENT
DTSTART;VALUE=DATE:20250920
DTEND;VALUE=DATE:20250922
DTSTAMP:20260425T044217
CREATED:20250714T000946Z
LAST-MODIFIED:20250714T000946Z
UID:3920-1758340800-1758427199@dublingandia.com
SUMMARY:NOCHES GOLFAS " LAS PERRAS DEL DESIERTO "
DESCRIPTION:
URL:https://dublingandia.com/concierto/noches-golfas-las-perras-del-desierto/
LOCATION:Pub Dublin Gandia\, Rioja 38\, Playa de Gandia\, Valencia\, 46730\, España
CATEGORIES:Concierto
ATTACH;FMTTYPE=image/jpeg:https://dublingandia.com/wp-content/uploads/2025/07/20SEP.jpeg
END:VEVENT
BEGIN:VEVENT
DTSTART;VALUE=DATE:20250921
DTEND;VALUE=DATE:20250923
DTSTAMP:20260425T044217
CREATED:20250715T082745Z
LAST-MODIFIED:20250715T093556Z
UID:3937-1758427200-1758513599@dublingandia.com
SUMMARY:VERMUT SESSION " PLANET 8 "
DESCRIPTION:VERSIONES DE POP INTERNACIONAL DE LOS 80S
URL:https://dublingandia.com/concierto/vermut-session-planet-8-6/
LOCATION:Pub Dublin Gandia\, Rioja 38\, Playa de Gandia\, Valencia\, 46730\, España
CATEGORIES:Concierto
ATTACH;FMTTYPE=image/jpeg:https://dublingandia.com/wp-content/uploads/2025/07/21SEP-1.jpeg
END:VEVENT
BEGIN:VEVENT
DTSTART;VALUE=DATE:20250926
DTEND;VALUE=DATE:20250928
DTSTAMP:20260425T044217
CREATED:20250711T125009Z
LAST-MODIFIED:20250711T125009Z
UID:3909-1758859200-1758945599@dublingandia.com
SUMMARY:NOCHES GOLFAS " FOURSOME ARTIFACTS "
DESCRIPTION:
URL:https://dublingandia.com/concierto/noches-golfas-foursome-artifacts-3/
LOCATION:Pub Dublin Gandia\, Rioja 38\, Playa de Gandia\, Valencia\, 46730\, España
CATEGORIES:Concierto
ATTACH;FMTTYPE=image/jpeg:https://dublingandia.com/wp-content/uploads/2025/07/26SEP.jpeg
END:VEVENT
BEGIN:VEVENT
DTSTART;VALUE=DATE:20250927
DTEND;VALUE=DATE:20250929
DTSTAMP:20260425T044217
CREATED:20250711T135926Z
LAST-MODIFIED:20250715T112234Z
UID:3912-1758945600-1759031999@dublingandia.com
SUMMARY:NOCHES GOLFAS "LUBACK"
DESCRIPTION:
URL:https://dublingandia.com/concierto/noches-golfas-luback/
LOCATION:Pub Dublin Gandia\, Rioja 38\, Playa de Gandia\, Valencia\, 46730\, España
CATEGORIES:Concierto
ATTACH;FMTTYPE=image/jpeg:https://dublingandia.com/wp-content/uploads/2025/07/27SEP-1.jpeg
END:VEVENT
BEGIN:VEVENT
DTSTART;VALUE=DATE:20250928
DTEND;VALUE=DATE:20250930
DTSTAMP:20260425T044217
CREATED:20250715T073134Z
LAST-MODIFIED:20250715T081217Z
UID:3927-1759032000-1759118399@dublingandia.com
SUMMARY:VERMUT SESSION " OLD FELLOWS "
DESCRIPTION:BANDA DE VERSIONES MADRILEÑA
URL:https://dublingandia.com/concierto/vermut-session-old-fellows/
LOCATION:Pub Dublin Gandia\, Rioja 38\, Playa de Gandia\, Valencia\, 46730\, España
CATEGORIES:Concierto
ATTACH;FMTTYPE=image/jpeg:https://dublingandia.com/wp-content/uploads/2025/07/28SEP.jpeg
END:VEVENT
BEGIN:VEVENT
DTSTART;VALUE=DATE:20250930
DTEND;VALUE=DATE:20251002
DTSTAMP:20260425T044217
CREATED:20250930T121701Z
LAST-MODIFIED:20250930T121701Z
UID:4068-1759204800-1759291199@dublingandia.com
SUMMARY:VERMUT SESSION " PERVERSIO "
DESCRIPTION:
URL:https://dublingandia.com/concierto/vermut-session-perversio-7/
LOCATION:Pub Dublin Gandia\, Rioja 38\, Playa de Gandia\, Valencia\, 46730\, España
CATEGORIES:Concierto
ATTACH;FMTTYPE=image/jpeg:https://dublingandia.com/wp-content/uploads/2025/09/09NOV.jpeg
END:VEVENT
END:VCALENDAR