BEGIN:VCALENDAR
VERSION:2.0
PRODID:-//Dublin Gandia - ECPv6.15.20//NONSGML v1.0//EN
CALSCALE:GREGORIAN
METHOD:PUBLISH
X-ORIGINAL-URL:https://dublingandia.com
X-WR-CALDESC:Eventos para Dublin Gandia
REFRESH-INTERVAL;VALUE=DURATION:PT1H
X-Robots-Tag:noindex
X-PUBLISHED-TTL:PT1H
BEGIN:VTIMEZONE
TZID:Europe/Madrid
BEGIN:DAYLIGHT
TZOFFSETFROM:+0100
TZOFFSETTO:+0200
TZNAME:CEST
DTSTART:20240331T010000
END:DAYLIGHT
BEGIN:STANDARD
TZOFFSETFROM:+0200
TZOFFSETTO:+0100
TZNAME:CET
DTSTART:20241027T010000
END:STANDARD
BEGIN:DAYLIGHT
TZOFFSETFROM:+0100
TZOFFSETTO:+0200
TZNAME:CEST
DTSTART:20250330T010000
END:DAYLIGHT
BEGIN:STANDARD
TZOFFSETFROM:+0200
TZOFFSETTO:+0100
TZNAME:CET
DTSTART:20251026T010000
END:STANDARD
BEGIN:DAYLIGHT
TZOFFSETFROM:+0100
TZOFFSETTO:+0200
TZNAME:CEST
DTSTART:20260329T010000
END:DAYLIGHT
BEGIN:STANDARD
TZOFFSETFROM:+0200
TZOFFSETTO:+0100
TZNAME:CET
DTSTART:20261025T010000
END:STANDARD
END:VTIMEZONE
BEGIN:VEVENT
DTSTART;VALUE=DATE:20251003
DTEND;VALUE=DATE:20251005
DTSTAMP:20260425T030453
CREATED:20250718T003200Z
LAST-MODIFIED:20250718T003200Z
UID:3947-1759464000-1759550399@dublingandia.com
SUMMARY:NOCHES GOLFAS " SLEEPING CIRCUS "
DESCRIPTION:
URL:https://dublingandia.com/concierto/noches-golfas-sleeping-circus/
LOCATION:Pub Dublin Gandia\, Rioja 38\, Playa de Gandia\, Valencia\, 46730\, España
CATEGORIES:Concierto
ATTACH;FMTTYPE=image/jpeg:https://dublingandia.com/wp-content/uploads/2025/07/03OCT.jpeg
END:VEVENT
BEGIN:VEVENT
DTSTART;VALUE=DATE:20251004
DTEND;VALUE=DATE:20251006
DTSTAMP:20260425T030453
CREATED:20250801T104306Z
LAST-MODIFIED:20250801T104307Z
UID:4041-1759550400-1759636799@dublingandia.com
SUMMARY:HOY CERRADO POR FERIA DE GANDIA  3 Y 5 ESTAREMOS ABIERTOS
DESCRIPTION:
URL:https://dublingandia.com/concierto/hoy-cerrado-por-feria-de-gandia-3-y-5-estaremos-abiertos/
LOCATION:Pub Dublin Gandia\, Rioja 38\, Playa de Gandia\, Valencia\, 46730\, España
CATEGORIES:Otros
ATTACH;FMTTYPE=image/jpeg:https://dublingandia.com/wp-content/uploads/2025/08/04OCTCCERRADO.jpeg
END:VEVENT
BEGIN:VEVENT
DTSTART;VALUE=DATE:20251005
DTEND;VALUE=DATE:20251007
DTSTAMP:20260425T030453
CREATED:20250711T113501Z
LAST-MODIFIED:20250711T114313Z
UID:3891-1759636800-1759723199@dublingandia.com
SUMMARY:VERMUT JAM SESSION " GRAHAM FOSTER BAND "
DESCRIPTION:
URL:https://dublingandia.com/concierto/vermut-jam-session-graham-foster-band-14/
LOCATION:Pub Dublin Gandia\, Rioja 38\, Playa de Gandia\, Valencia\, 46730\, España
CATEGORIES:Jam Session
ATTACH;FMTTYPE=image/jpeg:https://dublingandia.com/wp-content/uploads/2025/07/05OCT-1.jpeg
END:VEVENT
BEGIN:VEVENT
DTSTART;VALUE=DATE:20251010
DTEND;VALUE=DATE:20251012
DTSTAMP:20260425T030453
CREATED:20250718T115216Z
LAST-MODIFIED:20251009T160724Z
UID:3952-1760068800-1760155199@dublingandia.com
SUMMARY:NOCHES GOLFAS " DJ MODERNO LIVE "
DESCRIPTION:
URL:https://dublingandia.com/concierto/noches-golfas-dj-moderno/
LOCATION:Pub Dublin Gandia\, Rioja 38\, Playa de Gandia\, Valencia\, 46730\, España
CATEGORIES:Concierto
ATTACH;FMTTYPE=image/jpeg:https://dublingandia.com/wp-content/uploads/2025/07/LRREVE.jpeg
END:VEVENT
BEGIN:VEVENT
DTSTART;VALUE=DATE:20251011
DTEND;VALUE=DATE:20251013
DTSTAMP:20260425T030453
CREATED:20250718T115506Z
LAST-MODIFIED:20251009T160915Z
UID:3955-1760155200-1760241599@dublingandia.com
SUMMARY:TARDEO SESSION " AMYJO DOH & THE SPANGLES
DESCRIPTION:
URL:https://dublingandia.com/concierto/tardeo-session-amyjo-doherty-the-spangles/
LOCATION:Pub Dublin Gandia\, Rioja 38\, Playa de Gandia\, Valencia\, 46730\, España
CATEGORIES:Concierto
ATTACH;FMTTYPE=image/jpeg:https://dublingandia.com/wp-content/uploads/2025/07/11OCT-2.jpeg
END:VEVENT
BEGIN:VEVENT
DTSTART;VALUE=DATE:20251012
DTEND;VALUE=DATE:20251014
DTSTAMP:20260425T030453
CREATED:20250720T225811Z
LAST-MODIFIED:20250720T225811Z
UID:3974-1760241600-1760327999@dublingandia.com
SUMMARY:VERMUT SESSION " SOLO STONES "
DESCRIPTION:GRUPO HOMENAJE A LOS STONES
URL:https://dublingandia.com/concierto/vermut-session-solo-stones-9/
LOCATION:Pub Dublin Gandia\, Rioja 38\, Playa de Gandia\, Valencia\, 46730\, España
CATEGORIES:Concierto
ATTACH;FMTTYPE=image/jpeg:https://dublingandia.com/wp-content/uploads/2025/07/12OCT.jpg
END:VEVENT
BEGIN:VEVENT
DTSTART;VALUE=DATE:20251017
DTEND;VALUE=DATE:20251019
DTSTAMP:20260425T030453
CREATED:20250720T232542Z
LAST-MODIFIED:20250720T232543Z
UID:3977-1760673600-1760759999@dublingandia.com
SUMMARY:NOCHES GOLFAS " THE SAME WAY "
DESCRIPTION:
URL:https://dublingandia.com/concierto/noches-golfas-the-same-way/
LOCATION:Pub Dublin Gandia\, Rioja 38\, Playa de Gandia\, Valencia\, 46730\, España
CATEGORIES:Concierto
ATTACH;FMTTYPE=image/jpeg:https://dublingandia.com/wp-content/uploads/2025/07/17OCT.jpeg
END:VEVENT
BEGIN:VEVENT
DTSTART;VALUE=DATE:20251018
DTEND;VALUE=DATE:20251020
DTSTAMP:20260425T030453
CREATED:20250721T001338Z
LAST-MODIFIED:20250721T215841Z
UID:3980-1760760000-1760846399@dublingandia.com
SUMMARY:TARDEO SESSION " RADION " FROM MEXICO
DESCRIPTION:
URL:https://dublingandia.com/concierto/tardeo-session-radion-from-mexico/
LOCATION:Pub Dublin Gandia\, Rioja 38\, Playa de Gandia\, Valencia\, 46730\, España
CATEGORIES:Concierto
ATTACH;FMTTYPE=image/jpeg:https://dublingandia.com/wp-content/uploads/2025/07/18OCT.jpeg
END:VEVENT
BEGIN:VEVENT
DTSTART;VALUE=DATE:20251019
DTEND;VALUE=DATE:20251021
DTSTAMP:20260425T030453
CREATED:20250720T163736Z
LAST-MODIFIED:20250720T205056Z
UID:3963-1760846400-1760932799@dublingandia.com
SUMMARY:VERMUT SESSION " NO NAME "
DESCRIPTION:BANDA DE VERSIONES DE ROCK INTERNACIONAL
URL:https://dublingandia.com/concierto/vermut-session-no-name-7/
LOCATION:Pub Dublin Gandia\, Rioja 38\, Playa de Gandia\, Valencia\, 46730\, España
CATEGORIES:Concierto
ATTACH;FMTTYPE=image/jpeg:https://dublingandia.com/wp-content/uploads/2025/07/19OCT.jpeg
END:VEVENT
BEGIN:VEVENT
DTSTART;VALUE=DATE:20251024
DTEND;VALUE=DATE:20251026
DTSTAMP:20260425T030453
CREATED:20250721T083745Z
LAST-MODIFIED:20250721T091806Z
UID:3986-1761278400-1761364799@dublingandia.com
SUMMARY:NOCHES GOLFAS "CHULA"
DESCRIPTION:
URL:https://dublingandia.com/concierto/noches-golfas-chula/
LOCATION:Pub Dublin Gandia\, Rioja 38\, Playa de Gandia\, Valencia\, 46730\, España
CATEGORIES:Concierto
ATTACH;FMTTYPE=image/jpeg:https://dublingandia.com/wp-content/uploads/2025/07/24OCT-2.jpeg
END:VEVENT
BEGIN:VEVENT
DTSTART;VALUE=DATE:20251025
DTEND;VALUE=DATE:20251027
DTSTAMP:20260425T030453
CREATED:20250721T231119Z
LAST-MODIFIED:20250721T231119Z
UID:4004-1761364800-1761451199@dublingandia.com
SUMMARY:TARDEO SESSION " BIG MUFF BRIGADE "
DESCRIPTION:
URL:https://dublingandia.com/concierto/tardeo-session-big-muff-brigade/
LOCATION:Pub Dublin Gandia\, Rioja 38\, Playa de Gandia\, Valencia\, 46730\, España
CATEGORIES:Concierto
ATTACH;FMTTYPE=image/jpeg:https://dublingandia.com/wp-content/uploads/2025/07/25OCT.jpeg
END:VEVENT
BEGIN:VEVENT
DTSTART;VALUE=DATE:20251026
DTEND;VALUE=DATE:20251028
DTSTAMP:20260425T030453
CREATED:20250728T203620Z
LAST-MODIFIED:20250728T203620Z
UID:4035-1761451200-1761537599@dublingandia.com
SUMMARY:VERMUT SESSION " PAYBACK "
DESCRIPTION:BANDA DE VERSIONES INTERNACIONALES
URL:https://dublingandia.com/concierto/vermut-session-payback-4/
LOCATION:Pub Dublin Gandia\, Rioja 38\, Playa de Gandia\, Valencia\, 46730\, España
CATEGORIES:Concierto
ATTACH;FMTTYPE=image/jpeg:https://dublingandia.com/wp-content/uploads/2025/07/26OCT.jpeg
END:VEVENT
BEGIN:VEVENT
DTSTART;VALUE=DATE:20251031
DTEND;VALUE=DATE:20251102
DTSTAMP:20260425T030453
CREATED:20250710T165646Z
LAST-MODIFIED:20250921T190720Z
UID:3875-1761883200-1761969599@dublingandia.com
SUMMARY:NOCHES GOLFAS "RINCON CLANDESTINO "
DESCRIPTION:
URL:https://dublingandia.com/concierto/noches-golfas-lex-luger/
LOCATION:Pub Dublin Gandia\, Rioja 38\, Playa de Gandia\, Valencia\, 46730\, España
CATEGORIES:Concierto
ATTACH;FMTTYPE=image/jpeg:https://dublingandia.com/wp-content/uploads/2025/07/31OCT-2.jpeg
END:VEVENT
END:VCALENDAR