BEGIN:VCALENDAR
VERSION:2.0
PRODID:-//Dublin Gandia - ECPv6.15.20//NONSGML v1.0//EN
CALSCALE:GREGORIAN
METHOD:PUBLISH
X-WR-CALNAME:Dublin Gandia
X-ORIGINAL-URL:https://dublingandia.com
X-WR-CALDESC:Eventos para Dublin Gandia
REFRESH-INTERVAL;VALUE=DURATION:PT1H
X-Robots-Tag:noindex
X-PUBLISHED-TTL:PT1H
BEGIN:VTIMEZONE
TZID:Europe/Madrid
BEGIN:DAYLIGHT
TZOFFSETFROM:+0100
TZOFFSETTO:+0200
TZNAME:CEST
DTSTART:20240331T010000
END:DAYLIGHT
BEGIN:STANDARD
TZOFFSETFROM:+0200
TZOFFSETTO:+0100
TZNAME:CET
DTSTART:20241027T010000
END:STANDARD
BEGIN:DAYLIGHT
TZOFFSETFROM:+0100
TZOFFSETTO:+0200
TZNAME:CEST
DTSTART:20250330T010000
END:DAYLIGHT
BEGIN:STANDARD
TZOFFSETFROM:+0200
TZOFFSETTO:+0100
TZNAME:CET
DTSTART:20251026T010000
END:STANDARD
BEGIN:DAYLIGHT
TZOFFSETFROM:+0100
TZOFFSETTO:+0200
TZNAME:CEST
DTSTART:20260329T010000
END:DAYLIGHT
BEGIN:STANDARD
TZOFFSETFROM:+0200
TZOFFSETTO:+0100
TZNAME:CET
DTSTART:20261025T010000
END:STANDARD
END:VTIMEZONE
BEGIN:VEVENT
DTSTART;VALUE=DATE:20251205
DTEND;VALUE=DATE:20251207
DTSTAMP:20260424T223501
CREATED:20251113T201938Z
LAST-MODIFIED:20251113T201938Z
UID:4110-1764907200-1764993599@dublingandia.com
SUMMARY:NOCHES GOLFAS " JUNIOR MACKENZIE "
DESCRIPTION:
URL:https://dublingandia.com/concierto/noches-golfas-junior-mackenzie/
LOCATION:Pub Dublin Gandia\, Rioja 38\, Playa de Gandia\, Valencia\, 46730\, España
CATEGORIES:Concierto
ATTACH;FMTTYPE=image/jpeg:https://dublingandia.com/wp-content/uploads/2025/11/LRREVE.jpeg
END:VEVENT
BEGIN:VEVENT
DTSTART;VALUE=DATE:20251206
DTEND;VALUE=DATE:20251208
DTSTAMP:20260424T223501
CREATED:20250726T131404Z
LAST-MODIFIED:20251201T145258Z
UID:4015-1764993600-1765079999@dublingandia.com
SUMMARY:TARDEO SESSION "BLUES WEISER "
DESCRIPTION:
URL:https://dublingandia.com/concierto/tardeo-session-blues-weiser/
LOCATION:Pub Dublin Gandia\, Rioja 38\, Playa de Gandia\, Valencia\, 46730\, España
CATEGORIES:Concierto
ATTACH;FMTTYPE=image/jpeg:https://dublingandia.com/wp-content/uploads/2025/07/06DIC-3.jpeg
END:VEVENT
BEGIN:VEVENT
DTSTART;VALUE=DATE:20251207
DTEND;VALUE=DATE:20251209
DTSTAMP:20260424T223501
CREATED:20250930T131933Z
LAST-MODIFIED:20250930T131933Z
UID:4078-1765080000-1765166399@dublingandia.com
SUMMARY:VERMUT JAM SESSION " GRAHAM FOSTER BAND "
DESCRIPTION:
URL:https://dublingandia.com/concierto/vermut-jam-session-graham-foster-band-17/
LOCATION:Pub Dublin Gandia\, Rioja 38\, Playa de Gandia\, Valencia\, 46730\, España
CATEGORIES:Jam Session
ATTACH;FMTTYPE=image/jpeg:https://dublingandia.com/wp-content/uploads/2025/09/07DIC.jpeg
END:VEVENT
BEGIN:VEVENT
DTSTART;VALUE=DATE:20251212
DTEND;VALUE=DATE:20251214
DTSTAMP:20260424T223501
CREATED:20250930T132408Z
LAST-MODIFIED:20250930T132409Z
UID:4081-1765512000-1765598399@dublingandia.com
SUMMARY:NOCHES GOLFAS " LAS LOLAS "
DESCRIPTION:
URL:https://dublingandia.com/concierto/noches-golfas-las-lolas/
LOCATION:Pub Dublin Gandia\, Rioja 38\, Playa de Gandia\, Valencia\, 46730\, España
CATEGORIES:Concierto
ATTACH;FMTTYPE=image/jpeg:https://dublingandia.com/wp-content/uploads/2025/09/12DIC.jpeg
END:VEVENT
BEGIN:VEVENT
DTSTART;VALUE=DATE:20251213
DTEND;VALUE=DATE:20251215
DTSTAMP:20260424T223501
CREATED:20250930T133157Z
LAST-MODIFIED:20251210T132651Z
UID:4084-1765598400-1765684799@dublingandia.com
SUMMARY:TARDEO SESSION " CABALLO TRIPODE "
DESCRIPTION:
URL:https://dublingandia.com/concierto/tardeo-session-los-jaguares-de-la-bahia-los-putas-covers/
LOCATION:Pub Dublin Gandia\, Rioja 38\, Playa de Gandia\, Valencia\, 46730\, España
CATEGORIES:Concierto
ATTACH;FMTTYPE=image/jpeg:https://dublingandia.com/wp-content/uploads/2025/09/13DICi-1.jpeg
END:VEVENT
BEGIN:VEVENT
DTSTART;VALUE=DATE:20251214
DTEND;VALUE=DATE:20251216
DTSTAMP:20260424T223501
CREATED:20251209T215545Z
LAST-MODIFIED:20251214T071718Z
UID:4235-1765684800-1765771199@dublingandia.com
SUMMARY:APLAZADO POR ALERTA ROJA -VERMUT SESSION " SAMSARA ROCK-BAND "
DESCRIPTION:
URL:https://dublingandia.com/concierto/vermut-session-samsara-rock-band/
LOCATION:Pub Dublin Gandia\, Rioja 38\, Playa de Gandia\, Valencia\, 46730\, España
CATEGORIES:Concierto
ATTACH;FMTTYPE=image/jpeg:https://dublingandia.com/wp-content/uploads/2025/12/14DIC-1.jpeg
END:VEVENT
BEGIN:VEVENT
DTSTART;VALUE=DATE:20251219
DTEND;VALUE=DATE:20251221
DTSTAMP:20260424T223501
CREATED:20251117T081108Z
LAST-MODIFIED:20251117T081108Z
UID:4122-1766116800-1766203199@dublingandia.com
SUMMARY:NOCHES GOLFAS " EL CARTERO ROCKERO"
DESCRIPTION:BANDA DE VERSIONES (SEX PISTOLS\, CLASH ETC ETC)
URL:https://dublingandia.com/concierto/noches-golfas-el-cartero-rockero-3/
LOCATION:Pub Dublin Gandia\, Rioja 38\, Playa de Gandia\, Valencia\, 46730\, España
CATEGORIES:Concierto
ATTACH;FMTTYPE=image/jpeg:https://dublingandia.com/wp-content/uploads/2025/11/19DIC.jpg
END:VEVENT
BEGIN:VEVENT
DTSTART;VALUE=DATE:20251220
DTEND;VALUE=DATE:20251222
DTSTAMP:20260424T223501
CREATED:20250822T115442Z
LAST-MODIFIED:20251127T105744Z
UID:4046-1766203200-1766289599@dublingandia.com
SUMMARY:TARDEO SESSION " PYTHIES " FROM PARIS (ENTRADAS EN TAQUILLA EFECTIVO O BIZÚM)
DESCRIPTION:
URL:https://dublingandia.com/concierto/tardeo-session-pythies-from-paris/
LOCATION:Pub Dublin Gandia\, Rioja 38\, Playa de Gandia\, Valencia\, 46730\, España
CATEGORIES:Concierto
ATTACH;FMTTYPE=image/jpeg:https://dublingandia.com/wp-content/uploads/2025/08/20DIC-2.jpeg
END:VEVENT
BEGIN:VEVENT
DTSTART;VALUE=DATE:20251221
DTEND;VALUE=DATE:20251223
DTSTAMP:20260424T223501
CREATED:20251117T081752Z
LAST-MODIFIED:20251117T081753Z
UID:4128-1766289600-1766375999@dublingandia.com
SUMMARY:VERMUT SESSION " LOS ELECTRODINAMICOS "
DESCRIPTION:
URL:https://dublingandia.com/concierto/vermut-session-los-electrodinamicos/
LOCATION:Pub Dublin Gandia\, Rioja 38\, Playa de Gandia\, Valencia\, 46730\, España
CATEGORIES:Concierto
ATTACH;FMTTYPE=image/jpeg:https://dublingandia.com/wp-content/uploads/2025/11/21DIC.jpeg
END:VEVENT
BEGIN:VEVENT
DTSTART;VALUE=DATE:20251226
DTEND;VALUE=DATE:20251228
DTSTAMP:20260424T223501
CREATED:20251113T150625Z
LAST-MODIFIED:20251127T110002Z
UID:4107-1766721600-1766807999@dublingandia.com
SUMMARY:TARDEO SESSION " R.E.M. BY PLANET 8 " (ENTRADAS EN TAQUILLA EFECTIVO O BIZÚM)
DESCRIPTION:Oscar Briz y Planet 8 Homenajean al grupo de Georgia.
URL:https://dublingandia.com/concierto/tardeo-session-r-e-m-by-planet-8/
LOCATION:Pub Dublin Gandia\, Rioja 38\, Playa de Gandia\, Valencia\, 46730\, España
CATEGORIES:Concierto
ATTACH;FMTTYPE=image/jpeg:https://dublingandia.com/wp-content/uploads/2025/11/26Dic-2.jpg
END:VEVENT
BEGIN:VEVENT
DTSTART;VALUE=DATE:20251227
DTEND;VALUE=DATE:20251229
DTSTAMP:20260424T223501
CREATED:20250911T091846Z
LAST-MODIFIED:20250911T092112Z
UID:4053-1766808000-1766894399@dublingandia.com
SUMMARY:TARDEO SESSION " LOS PUTAS " UN CUENTO DE NAVIDAD
DESCRIPTION:
URL:https://dublingandia.com/concierto/tardeo-session-los-putas-un-cuento-de-navidad/
LOCATION:Pub Dublin Gandia\, Rioja 38\, Playa de Gandia\, Valencia\, 46730\, España
CATEGORIES:Concierto
ATTACH;FMTTYPE=image/jpeg:https://dublingandia.com/wp-content/uploads/2025/09/27-DIC.jpeg
END:VEVENT
BEGIN:VEVENT
DTSTART;VALUE=DATE:20251228
DTEND;VALUE=DATE:20251230
DTSTAMP:20260424T223501
CREATED:20251117T230636Z
LAST-MODIFIED:20251117T230637Z
UID:4139-1766894400-1766980799@dublingandia.com
SUMMARY:VERMUT SESSION " SOLO STONES "
DESCRIPTION:HOMENAJE A LOS STONES
URL:https://dublingandia.com/concierto/vermut-session-solo-stones-10/
LOCATION:Pub Dublin Gandia\, Rioja 38\, Playa de Gandia\, Valencia\, 46730\, España
CATEGORIES:Concierto
ATTACH;FMTTYPE=image/jpeg:https://dublingandia.com/wp-content/uploads/2025/11/28DIC.jpeg
END:VEVENT
END:VCALENDAR