BEGIN:VCALENDAR
VERSION:2.0
PRODID:-//Dublin Gandia - ECPv6.15.20//NONSGML v1.0//EN
CALSCALE:GREGORIAN
METHOD:PUBLISH
X-WR-CALNAME:Dublin Gandia
X-ORIGINAL-URL:https://dublingandia.com
X-WR-CALDESC:Eventos para Dublin Gandia
REFRESH-INTERVAL;VALUE=DURATION:PT1H
X-Robots-Tag:noindex
X-PUBLISHED-TTL:PT1H
BEGIN:VTIMEZONE
TZID:Europe/Madrid
BEGIN:DAYLIGHT
TZOFFSETFROM:+0100
TZOFFSETTO:+0200
TZNAME:CEST
DTSTART:20250330T010000
END:DAYLIGHT
BEGIN:STANDARD
TZOFFSETFROM:+0200
TZOFFSETTO:+0100
TZNAME:CET
DTSTART:20251026T010000
END:STANDARD
BEGIN:DAYLIGHT
TZOFFSETFROM:+0100
TZOFFSETTO:+0200
TZNAME:CEST
DTSTART:20260329T010000
END:DAYLIGHT
BEGIN:STANDARD
TZOFFSETFROM:+0200
TZOFFSETTO:+0100
TZNAME:CET
DTSTART:20261025T010000
END:STANDARD
BEGIN:DAYLIGHT
TZOFFSETFROM:+0100
TZOFFSETTO:+0200
TZNAME:CEST
DTSTART:20270328T010000
END:DAYLIGHT
BEGIN:STANDARD
TZOFFSETFROM:+0200
TZOFFSETTO:+0100
TZNAME:CET
DTSTART:20271031T010000
END:STANDARD
END:VTIMEZONE
BEGIN:VEVENT
DTSTART;VALUE=DATE:20260104
DTEND;VALUE=DATE:20260106
DTSTAMP:20260424T210028
CREATED:20251120T110254Z
LAST-MODIFIED:20251120T110254Z
UID:4172-1767499200-1767585599@dublingandia.com
SUMMARY:JAM SESSION " GRAHAM FOSTER BAND "
DESCRIPTION:
URL:https://dublingandia.com/concierto/jam-session-graham-foster-band-7/
LOCATION:Pub Dublin Gandia\, Rioja 38\, Playa de Gandia\, Valencia\, 46730\, España
CATEGORIES:Jam Session
ATTACH;FMTTYPE=image/jpeg:https://dublingandia.com/wp-content/uploads/2025/11/4ENERO.jpeg
END:VEVENT
BEGIN:VEVENT
DTSTART;VALUE=DATE:20260109
DTEND;VALUE=DATE:20260111
DTSTAMP:20260424T210028
CREATED:20251118T122101Z
LAST-MODIFIED:20251118T122101Z
UID:4154-1767931200-1768017599@dublingandia.com
SUMMARY:NOCHES GOLFAS " LA NAVAJA DE OCKHAM "
DESCRIPTION:
URL:https://dublingandia.com/concierto/noches-golfas-la-navaja-de-ockham/
LOCATION:Pub Dublin Gandia\, Rioja 38\, Playa de Gandia\, Valencia\, 46730\, España
CATEGORIES:Concierto
ATTACH;FMTTYPE=image/jpeg:https://dublingandia.com/wp-content/uploads/2025/11/09ENE.jpeg
END:VEVENT
BEGIN:VEVENT
DTSTART;VALUE=DATE:20260110
DTEND;VALUE=DATE:20260112
DTSTAMP:20260424T210028
CREATED:20251229T233149Z
LAST-MODIFIED:20251229T233149Z
UID:4259-1768017600-1768103999@dublingandia.com
SUMMARY:TARDEO SESSION "DIVINOS CANALLAS"
DESCRIPTION:
URL:https://dublingandia.com/concierto/tardeo-session-divinos-canallas/
LOCATION:Pub Dublin Gandia\, Rioja 38\, Playa de Gandia\, Valencia\, 46730\, España
CATEGORIES:Concierto
ATTACH;FMTTYPE=image/jpeg:https://dublingandia.com/wp-content/uploads/2025/12/10ENE.jpeg
END:VEVENT
BEGIN:VEVENT
DTSTART;VALUE=DATE:20260111
DTEND;VALUE=DATE:20260113
DTSTAMP:20260424T210028
CREATED:20251229T095345Z
LAST-MODIFIED:20251229T095345Z
UID:4251-1768104000-1768190399@dublingandia.com
SUMMARY:VERMUT SESSION " PERVERSIO "
DESCRIPTION:
URL:https://dublingandia.com/concierto/vermut-session-perversio-8/
LOCATION:Pub Dublin Gandia\, Rioja 38\, Playa de Gandia\, Valencia\, 46730\, España
CATEGORIES:Concierto
ATTACH;FMTTYPE=image/jpeg:https://dublingandia.com/wp-content/uploads/2025/12/11ENE.jpeg
END:VEVENT
BEGIN:VEVENT
DTSTART;VALUE=DATE:20260116
DTEND;VALUE=DATE:20260118
DTSTAMP:20260424T210028
CREATED:20251229T092107Z
LAST-MODIFIED:20251229T092107Z
UID:4248-1768536000-1768622399@dublingandia.com
SUMMARY:NOCHES GOLFAS " PANORAMIX "
DESCRIPTION:
URL:https://dublingandia.com/concierto/noches-golfas-panoramix/
LOCATION:Pub Dublin Gandia\, Rioja 38\, Playa de Gandia\, Valencia\, 46730\, España
CATEGORIES:Concierto
ATTACH;FMTTYPE=image/jpeg:https://dublingandia.com/wp-content/uploads/2025/12/16ENERO.jpg
END:VEVENT
BEGIN:VEVENT
DTSTART;VALUE=DATE:20260117
DTEND;VALUE=DATE:20260119
DTSTAMP:20260424T210028
CREATED:20251118T124504Z
LAST-MODIFIED:20251118T124504Z
UID:4157-1768622400-1768708799@dublingandia.com
SUMMARY:TARDEO SESSION " LOS BELUSHI "
DESCRIPTION:
URL:https://dublingandia.com/concierto/tardeo-session-los-belushi/
LOCATION:Pub Dublin Gandia\, Rioja 38\, Playa de Gandia\, Valencia\, 46730\, España
CATEGORIES:Concierto
ATTACH;FMTTYPE=image/jpeg:https://dublingandia.com/wp-content/uploads/2025/11/17ENE.jpeg
END:VEVENT
BEGIN:VEVENT
DTSTART;VALUE=DATE:20260118
DTEND;VALUE=DATE:20260120
DTSTAMP:20260424T210028
CREATED:20260112T172242Z
LAST-MODIFIED:20260112T172242Z
UID:4363-1768708800-1768795199@dublingandia.com
SUMMARY:VERMUT SESSION " THE SONRATS "
DESCRIPTION:BANDA DE VERSIONES
URL:https://dublingandia.com/concierto/vermut-session-the-sonrats/
LOCATION:Pub Dublin Gandia\, Rioja 38\, Playa de Gandia\, Valencia\, 46730\, España
CATEGORIES:Concierto
ATTACH;FMTTYPE=image/jpeg:https://dublingandia.com/wp-content/uploads/2026/01/18ENE.jpg
END:VEVENT
BEGIN:VEVENT
DTSTART;VALUE=DATE:20260123
DTEND;VALUE=DATE:20260125
DTSTAMP:20260424T210028
CREATED:20251118T132137Z
LAST-MODIFIED:20251118T132137Z
UID:4160-1769140800-1769227199@dublingandia.com
SUMMARY:NOCHES GOLFAS " INHOSPITO "
DESCRIPTION:
URL:https://dublingandia.com/concierto/noches-golfas-inhospito/
LOCATION:Pub Dublin Gandia\, Rioja 38\, Playa de Gandia\, Valencia\, 46730\, España
CATEGORIES:Concierto
ATTACH;FMTTYPE=image/jpeg:https://dublingandia.com/wp-content/uploads/2025/11/23ENE.jpeg
END:VEVENT
BEGIN:VEVENT
DTSTART;VALUE=DATE:20260124
DTEND;VALUE=DATE:20260126
DTSTAMP:20260424T210028
CREATED:20251118T134238Z
LAST-MODIFIED:20251118T134239Z
UID:4164-1769227200-1769313599@dublingandia.com
SUMMARY:TARDEO SESSION " SAFARI "
DESCRIPTION:
URL:https://dublingandia.com/concierto/tardeo-session-safari/
LOCATION:Pub Dublin Gandia\, Rioja 38\, Playa de Gandia\, Valencia\, 46730\, España
CATEGORIES:Concierto
ATTACH;FMTTYPE=image/jpeg:https://dublingandia.com/wp-content/uploads/2025/11/24ENE.jpeg
END:VEVENT
BEGIN:VEVENT
DTSTART;VALUE=DATE:20260125
DTEND;VALUE=DATE:20260127
DTSTAMP:20260424T210028
CREATED:20251229T102704Z
LAST-MODIFIED:20251229T102704Z
UID:4254-1769313600-1769399999@dublingandia.com
SUMMARY:VERMUT SESSION " PAYBACK "
DESCRIPTION:BANDA VERSIONES INTERNACIONALES LIDERADA POR MARCELO PESOA
URL:https://dublingandia.com/concierto/vermut-session-payback-5/
LOCATION:Pub Dublin Gandia\, Rioja 38\, Playa de Gandia\, Valencia\, 46730\, España
CATEGORIES:Concierto
ATTACH;FMTTYPE=image/jpeg:https://dublingandia.com/wp-content/uploads/2025/12/25ENE.jpeg
END:VEVENT
BEGIN:VEVENT
DTSTART;VALUE=DATE:20260130
DTEND;VALUE=DATE:20260201
DTSTAMP:20260424T210028
CREATED:20251120T110956Z
LAST-MODIFIED:20251120T110956Z
UID:4175-1769745600-1769831999@dublingandia.com
SUMMARY:NOCHES GOLFAS " LOS TURANGA "
DESCRIPTION:
URL:https://dublingandia.com/concierto/noches-golfas-los-turanga/
LOCATION:Pub Dublin Gandia\, Rioja 38\, Playa de Gandia\, Valencia\, 46730\, España
CATEGORIES:Concierto
ATTACH;FMTTYPE=image/jpeg:https://dublingandia.com/wp-content/uploads/2025/11/30ENE-1.jpeg
END:VEVENT
BEGIN:VEVENT
DTSTART;VALUE=DATE:20260131
DTEND;VALUE=DATE:20260202
DTSTAMP:20260424T210028
CREATED:20251118T135955Z
LAST-MODIFIED:20251118T135955Z
UID:4168-1769832000-1769918399@dublingandia.com
SUMMARY:TARDEO SESSION " PARASIDNEY "
DESCRIPTION:
URL:https://dublingandia.com/concierto/tardeo-session-parasidney/
LOCATION:Pub Dublin Gandia\, Rioja 38\, Playa de Gandia\, Valencia\, 46730\, España
CATEGORIES:Concierto
ATTACH;FMTTYPE=image/jpeg:https://dublingandia.com/wp-content/uploads/2025/11/31ENE.jpeg
END:VEVENT
END:VCALENDAR